OziExplorer Map Data File Version 2.2
b37-36
b37-36.jpg
1 ,Map Code,
Pulkovo 1942 (1),WGS 84, 0.0000, 0.0000,WGS 84
Reserved 1
Reserved 2
Magnetic Variation,,,E
Map Projection,Transverse Mercator,PolyCal,No,AutoCalOnly,No,BSBUseWPX,No
Point01,xy, 120, 128,in, deg, 4, 40.0000,N, 41, 0.0000,E, grid, , , ,N
Point02,xy, 2918, 154,in, deg, 4, 40.0000,N, 42, 0.0000,E, grid, , , ,N
Point03,xy, 2901, 2026,in, deg, 4, 0.0000,N, 42, 0.0000,E, grid, , , ,N
Point04,xy, 101, 2000,in, deg, 4, 0.0000,N, 41, 0.0000,E, grid, , , ,N
Point05,xy, 1510, 1080,in, deg, 4, 20.0000,N, 41, 30.0000,E, grid, , , ,N
Point06,xy, 1519, 143,in, deg, 4, 40.0000,N, 41, 30.0000,E, grid, , , ,N
Point07,xy, 111, 1066,in, deg, 4, 20.0000,N, 41, 0.0000,E, grid, , , ,N
Point08,xy, 2909, 1091,in, deg, 4, 20.0000,N, 42, 0.0000,E, grid, , , ,N
Point09,xy, 1501, 2013,in, deg, 4, 0.0000,N, 41, 30.0000,E, grid, , , ,N
Point10,xy, , ,in, deg, , ,N, , ,W, grid, , , ,N
Point11,xy, , ,in, deg, , ,N, , ,W, grid, , , ,N
Point12,xy, , ,in, deg, , ,N, , ,W, grid, , , ,N
Point13,xy, , ,in, deg, , ,N, , ,W, grid, , , ,N
Point14,xy, , ,in, deg, , ,N, , ,W, grid, , , ,N
Point15,xy, , ,in, deg, , ,N, , ,W, grid, , , ,N
Point16,xy, , ,in, deg, , ,N, , ,W, grid, , , ,N
Point17,xy, , ,in, deg, , ,N, , ,W, grid, , , ,N
Point18,xy, , ,in, deg, , ,N, , ,W, grid, , , ,N
Point19,xy, , ,in, deg, , ,N, , ,W, grid, , , ,N
Point20,xy, , ,in, deg, , ,N, , ,W, grid, , , ,N
Point21,xy, , ,in, deg, , ,N, , ,W, grid, , , ,N
Point22,xy, , ,in, deg, , ,N, , ,W, grid, , , ,N
Point23,xy, , ,in, deg, , ,N, , ,W, grid, , , ,N
Point24,xy, , ,in, deg, , ,N, , ,W, grid, , , ,N
Point25,xy, , ,in, deg, , ,N, , ,W, grid, , , ,N
Point26,xy, , ,in, deg, , ,N, , ,W, grid, , , ,N
Point27,xy, , ,in, deg, , ,N, , ,W, grid, , , ,N
Point28,xy, , ,in, deg, , ,N, , ,W, grid, , , ,N
Point29,xy, , ,in, deg, , ,N, , ,W, grid, , , ,N
Point30,xy, , ,in, deg, , ,N, , ,W, grid, , , ,N
Projection Setup, 0.000000000, 39.000000000, 1.000000000, 7500000.00, 0.00,,,,,
Map Feature = MF ; Map Comment = MC These follow if they exist
Track File = TF These follow if they exist
Moving Map Parameters = MM? These follow if they exist
MM0,Yes
MMPNUM,4
MMPXY,1,118,127
MMPXY,2,2919,153
MMPXY,3,2902,2027
MMPXY,4,99,2002
MMPLL,1, 40.999155, 4.667579
MMPLL,2, 42.000436, 4.667213
MMPLL,3, 42.000363, 3.999863
MMPLL,4, 40.999251, 3.999357
MM1B,39.680717
Other Grid Setup
GRGRID,Yes,4 Km,No,16711680,255,4 Km,0,16777215,8,0,Yes,Yes,No,x
MOP,Map Open Position,0,0
IWH,Map Image Width/Height,3000,2195
