OziExplorer Map Data File Version 2.2
b36-36
b36-36.jpg
1 ,Map Code,
Pulkovo 1942 (1),WGS 84, 0.0000, 0.0000,WGS 84
Reserved 1
Reserved 2
Magnetic Variation,,,E
Map Projection,Transverse Mercator,PolyCal,No,AutoCalOnly,No,BSBUseWPX,No
Point01,xy, 242, 126,in, deg, 4, 40.0000,N, 35, 0.0000,E, grid, , , ,N
Point02,xy, 6761, 136,in, deg, 4, 40.0000,N, 36, 0.0000,E, grid, , , ,N
Point03,xy, 6753, 4504,in, deg, 4, 0.0000,N, 36, 0.0000,E, grid, , , ,N
Point04,xy, 219, 4500,in, deg, 4, 0.0000,N, 35, 0.0000,E, grid, , , ,N
Point05,xy, 3490, 2321,in, deg, 4, 20.0000,N, 35, 30.0000,E, grid, , , ,N
Point06,xy, 3499, 139,in, deg, 4, 40.0000,N, 35, 30.0000,E, grid, , , ,N
Point07,xy, 230, 2310,in, deg, 4, 20.0000,N, 35, 0.0000,E, grid, , , ,N
Point08,xy, 6758, 2318,in, deg, 4, 20.0000,N, 36, 0.0000,E, grid, , , ,N
Point09,xy, 3488, 4507,in, deg, 4, 0.0000,N, 35, 30.0000,E, grid, , , ,N
Point10,xy, , ,in, deg, , ,N, , ,W, grid, , , ,N
Point11,xy, , ,in, deg, , ,N, , ,W, grid, , , ,N
Point12,xy, , ,in, deg, , ,N, , ,W, grid, , , ,N
Point13,xy, , ,in, deg, , ,N, , ,W, grid, , , ,N
Point14,xy, , ,in, deg, , ,N, , ,W, grid, , , ,N
Point15,xy, , ,in, deg, , ,N, , ,W, grid, , , ,N
Point16,xy, , ,in, deg, , ,N, , ,W, grid, , , ,N
Point17,xy, , ,in, deg, , ,N, , ,W, grid, , , ,N
Point18,xy, , ,in, deg, , ,N, , ,W, grid, , , ,N
Point19,xy, , ,in, deg, , ,N, , ,W, grid, , , ,N
Point20,xy, , ,in, deg, , ,N, , ,W, grid, , , ,N
Point21,xy, , ,in, deg, , ,N, , ,W, grid, , , ,N
Point22,xy, , ,in, deg, , ,N, , ,W, grid, , , ,N
Point23,xy, , ,in, deg, , ,N, , ,W, grid, , , ,N
Point24,xy, , ,in, deg, , ,N, , ,W, grid, , , ,N
Point25,xy, , ,in, deg, , ,N, , ,W, grid, , , ,N
Point26,xy, , ,in, deg, , ,N, , ,W, grid, , , ,N
Point27,xy, , ,in, deg, , ,N, , ,W, grid, , , ,N
Point28,xy, , ,in, deg, , ,N, , ,W, grid, , , ,N
Point29,xy, , ,in, deg, , ,N, , ,W, grid, , , ,N
Point30,xy, , ,in, deg, , ,N, , ,W, grid, , , ,N
Projection Setup, 0.000000000, 33.000000000, 1.000000000, 6500000.00, 0.00,,,,,
Map Feature = MF ; Map Comment = MC These follow if they exist
Track File = TF These follow if they exist
Moving Map Parameters = MM? These follow if they exist
MM0,Yes
MMPNUM,4
MMPXY,1,241,126
MMPXY,2,6764,135
MMPXY,3,6753,4505
MMPXY,4,218,4501
MMPLL,1, 35.000397, 4.667227
MMPLL,2, 36.000229, 4.666717
MMPLL,3, 36.000250, 4.000313
MMPLL,4, 34.999460, 3.999549
MM1B,17.016301
Other Grid Setup
GRGRID,Yes,4 Km,No,16711680,255,4 Km,0,16777215,8,0,Yes,Yes,No,x
MOP,Map Open Position,0,0
IWH,Map Image Width/Height,6974,5113
