OziExplorer Map Data File Version 2.2
b31-20
b31-20.jpg
1 ,Map Code,
Pulkovo 1942 (1),WGS 84, 0.0000, 0.0000,WGS 84
Reserved 1
Reserved 2
Magnetic Variation,,,E
Map Projection,Transverse Mercator,PolyCal,No,AutoCalOnly,No,BSBUseWPX,No
Point01,xy, 84, 102,in, deg, 6, 0.0000,N, 1, 0.0000,E, grid, , , ,N
Point02,xy, 3347, 109,in, deg, 6, 0.0000,N, 2, 0.0000,E, grid, , , ,N
Point03,xy, 3341, 2294,in, deg, 5, 20.0000,N, 2, 0.0000,E, grid, , , ,N
Point04,xy, 74, 2285,in, deg, 5, 20.0000,N, 1, 0.0000,E, grid, , , ,N
Point05,xy, 1712, 1199,in, deg, 5, 40.0000,N, 1, 30.0000,E, grid, , , ,N
Point06,xy, 1715, 107,in, deg, 6, 0.0000,N, 1, 30.0000,E, grid, , , ,N
Point07,xy, 79, 1192,in, deg, 5, 40.0000,N, 1, 0.0000,E, grid, , , ,N
Point08,xy, 3344, 1201,in, deg, 5, 40.0000,N, 2, 0.0000,E, grid, , , ,N
Point09,xy, 1707, 2291,in, deg, 5, 20.0000,N, 1, 30.0000,E, grid, , , ,N
Point10,xy, , ,in, deg, , ,N, , ,W, grid, , , ,N
Point11,xy, , ,in, deg, , ,N, , ,W, grid, , , ,N
Point12,xy, , ,in, deg, , ,N, , ,W, grid, , , ,N
Point13,xy, , ,in, deg, , ,N, , ,W, grid, , , ,N
Point14,xy, , ,in, deg, , ,N, , ,W, grid, , , ,N
Point15,xy, , ,in, deg, , ,N, , ,W, grid, , , ,N
Point16,xy, , ,in, deg, , ,N, , ,W, grid, , , ,N
Point17,xy, , ,in, deg, , ,N, , ,W, grid, , , ,N
Point18,xy, , ,in, deg, , ,N, , ,W, grid, , , ,N
Point19,xy, , ,in, deg, , ,N, , ,W, grid, , , ,N
Point20,xy, , ,in, deg, , ,N, , ,W, grid, , , ,N
Point21,xy, , ,in, deg, , ,N, , ,W, grid, , , ,N
Point22,xy, , ,in, deg, , ,N, , ,W, grid, , , ,N
Point23,xy, , ,in, deg, , ,N, , ,W, grid, , , ,N
Point24,xy, , ,in, deg, , ,N, , ,W, grid, , , ,N
Point25,xy, , ,in, deg, , ,N, , ,W, grid, , , ,N
Point26,xy, , ,in, deg, , ,N, , ,W, grid, , , ,N
Point27,xy, , ,in, deg, , ,N, , ,W, grid, , , ,N
Point28,xy, , ,in, deg, , ,N, , ,W, grid, , , ,N
Point29,xy, , ,in, deg, , ,N, , ,W, grid, , , ,N
Point30,xy, , ,in, deg, , ,N, , ,W, grid, , , ,N
Projection Setup, 0.000000000, 3.000000000, 1.000000000, 1500000.00, 0.00,,,,,
Map Feature = MF ; Map Comment = MC These follow if they exist
Track File = TF These follow if they exist
Moving Map Parameters = MM? These follow if they exist
MM0,Yes
MMPNUM,4
MMPXY,1,82,101
MMPXY,2,3348,108
MMPXY,3,3342,2296
MMPXY,4,73,2286
MMPLL,1, 0.999431, 6.000032
MMPLL,2, 2.000316, 6.000593
MMPLL,3, 2.000358, 5.332563
MMPLL,4, 0.999700, 5.333220
MM1B,33.927712
Other Grid Setup
GRGRID,Yes,4 Km,No,16711680,255,4 Km,0,16777215,8,0,Yes,Yes,No,x
MOP,Map Open Position,0,0
IWH,Map Image Width/Height,3420,2516
