OziExplorer Map Data File Version 2.2
b30-30
b30-30.jpg
1 ,Map Code,
Pulkovo 1942 (1),WGS 84, 0.0000, 0.0000,WGS 84
Reserved 1
Reserved 2
Magnetic Variation,,,E
Map Projection,Transverse Mercator,PolyCal,No,AutoCalOnly,No,BSBUseWPX,No
Point01,xy, 120, 111,in, deg, 5, 20.0000,N, 1, 0.0000,W, grid, , , ,N
Point02,xy, 3388, 111,in, deg, 5, 20.0000,N, 0, 0.0000,E, grid, , , ,N
Point03,xy, 3390, 2290,in, deg, 4, 40.0000,N, 0, 0.0000,E, grid, , , ,N
Point04,xy, 117, 2290,in, deg, 4, 40.0000,N, 1, 0.0000,W, grid, , , ,N
Point05,xy, 1753, 1201,in, deg, 5, 0.0000,N, 0, 30.0000,W, grid, , , ,N
Point06,xy, 1752, 112,in, deg, 5, 20.0000,N, 0, 30.0000,W, grid, , , ,N
Point07,xy, 119, 1202,in, deg, 5, 0.0000,N, 1, 0.0000,W, grid, , , ,N
Point08,xy, 3389, 1200,in, deg, 5, 0.0000,N, 0, 0.0000,E, grid, , , ,N
Point09,xy, 1754, 2289,in, deg, 4, 40.0000,N, 0, 30.0000,W, grid, , , ,N
Point10,xy, , ,in, deg, , ,N, , ,W, grid, , , ,N
Point11,xy, , ,in, deg, , ,N, , ,W, grid, , , ,N
Point12,xy, , ,in, deg, , ,N, , ,W, grid, , , ,N
Point13,xy, , ,in, deg, , ,N, , ,W, grid, , , ,N
Point14,xy, , ,in, deg, , ,N, , ,W, grid, , , ,N
Point15,xy, , ,in, deg, , ,N, , ,W, grid, , , ,N
Point16,xy, , ,in, deg, , ,N, , ,W, grid, , , ,N
Point17,xy, , ,in, deg, , ,N, , ,W, grid, , , ,N
Point18,xy, , ,in, deg, , ,N, , ,W, grid, , , ,N
Point19,xy, , ,in, deg, , ,N, , ,W, grid, , , ,N
Point20,xy, , ,in, deg, , ,N, , ,W, grid, , , ,N
Point21,xy, , ,in, deg, , ,N, , ,W, grid, , , ,N
Point22,xy, , ,in, deg, , ,N, , ,W, grid, , , ,N
Point23,xy, , ,in, deg, , ,N, , ,W, grid, , , ,N
Point24,xy, , ,in, deg, , ,N, , ,W, grid, , , ,N
Point25,xy, , ,in, deg, , ,N, , ,W, grid, , , ,N
Point26,xy, , ,in, deg, , ,N, , ,W, grid, , , ,N
Point27,xy, , ,in, deg, , ,N, , ,W, grid, , , ,N
Point28,xy, , ,in, deg, , ,N, , ,W, grid, , , ,N
Point29,xy, , ,in, deg, , ,N, , ,W, grid, , , ,N
Point30,xy, , ,in, deg, , ,N, , ,W, grid, , , ,N
Projection Setup, 0.000000000, -3.000000000, 1.000000000, 60500000.00, 0.00,,,,,
Map Feature = MF ; Map Comment = MC These follow if they exist
Track File = TF These follow if they exist
Moving Map Parameters = MM? These follow if they exist
MM0,Yes
MMPNUM,4
MMPXY,1,118,110
MMPXY,2,3389,111
MMPXY,3,3392,2290
MMPXY,4,116,2292
MMPLL,1, -1.000342, 5.333953
MMPLL,2, 0.000374, 5.333189
MMPLL,3, 0.000682, 4.666580
MMPLL,4, -1.000548, 4.665918
MM1B,33.929616
Other Grid Setup
GRGRID,Yes,4 Km,No,16711680,255,4 Km,0,16777215,8,0,Yes,Yes,No,x
MOP,Map Open Position,0,0
IWH,Map Image Width/Height,3488,2512
