OziExplorer Map Data File Version 2.2
b28-12
b28-12.jpg
1 ,Map Code,
Pulkovo 1942 (1),WGS 84, 0.0000, 0.0000,WGS 84
Reserved 1
Reserved 2
Magnetic Variation,,,E
Map Projection,Transverse Mercator,PolyCal,No,AutoCalOnly,No,BSBUseWPX,No
Point01,xy, 112, 327,in, deg, 7, 20.0000,N, 13, 0.0000,W, grid, , , ,N
Point02,xy, 6673, 331,in, deg, 7, 20.0000,N, 12, 0.0000,W, grid, , , ,N
Point03,xy, 6673, 4701,in, deg, 6, 40.0000,N, 12, 0.0000,W, grid, , , ,N
Point04,xy, 101, 4692,in, deg, 6, 40.0000,N, 13, 0.0000,W, grid, , , ,N
Point05,xy, 3388, 2520,in, deg, 7, 0.0000,N, 12, 30.0000,W, grid, , , ,N
Point06,xy, 3390, 331,in, deg, 7, 20.0000,N, 12, 30.0000,W, grid, , , ,N
Point07,xy, 107, 2506,in, deg, 7, 0.0000,N, 13, 0.0000,W, grid, , , ,N
Point08,xy, 6674, 2520,in, deg, 7, 0.0000,N, 12, 0.0000,W, grid, , , ,N
Point09,xy, 3386, 4699,in, deg, 6, 40.0000,N, 12, 30.0000,W, grid, , , ,N
Point10,xy, , ,in, deg, , ,N, , ,W, grid, , , ,N
Point11,xy, , ,in, deg, , ,N, , ,W, grid, , , ,N
Point12,xy, , ,in, deg, , ,N, , ,W, grid, , , ,N
Point13,xy, , ,in, deg, , ,N, , ,W, grid, , , ,N
Point14,xy, , ,in, deg, , ,N, , ,W, grid, , , ,N
Point15,xy, , ,in, deg, , ,N, , ,W, grid, , , ,N
Point16,xy, , ,in, deg, , ,N, , ,W, grid, , , ,N
Point17,xy, , ,in, deg, , ,N, , ,W, grid, , , ,N
Point18,xy, , ,in, deg, , ,N, , ,W, grid, , , ,N
Point19,xy, , ,in, deg, , ,N, , ,W, grid, , , ,N
Point20,xy, , ,in, deg, , ,N, , ,W, grid, , , ,N
Point21,xy, , ,in, deg, , ,N, , ,W, grid, , , ,N
Point22,xy, , ,in, deg, , ,N, , ,W, grid, , , ,N
Point23,xy, , ,in, deg, , ,N, , ,W, grid, , , ,N
Point24,xy, , ,in, deg, , ,N, , ,W, grid, , , ,N
Point25,xy, , ,in, deg, , ,N, , ,W, grid, , , ,N
Point26,xy, , ,in, deg, , ,N, , ,W, grid, , , ,N
Point27,xy, , ,in, deg, , ,N, , ,W, grid, , , ,N
Point28,xy, , ,in, deg, , ,N, , ,W, grid, , , ,N
Point29,xy, , ,in, deg, , ,N, , ,W, grid, , , ,N
Point30,xy, , ,in, deg, , ,N, , ,W, grid, , , ,N
Projection Setup, 0.000000000, -15.000000000, 1.000000000, 58500000.00, 0.00,,,,,
Map Feature = MF ; Map Comment = MC These follow if they exist
Track File = TF These follow if they exist
Moving Map Parameters = MM? These follow if they exist
MM0,Yes
MMPNUM,4
MMPXY,1,111,326
MMPXY,2,6674,329
MMPXY,3,6674,4702
MMPXY,4,101,4693
MMPLL,1, -12.999995, 7.333332
MMPLL,2, -11.999837, 7.333995
MMPLL,3, -11.999787, 6.666776
MMPLL,4, -13.000045, 6.666523
MM1B,16.835760
Other Grid Setup
GRGRID,Yes,4 Km,No,16711680,255,4 Km,0,16777215,8,0,Yes,Yes,No,x
MOP,Map Open Position,0,0
IWH,Map Image Width/Height,6805,5061
