OziExplorer Map Data File Version 2.2
a38-32
a38-32.jpg
1 ,Map Code,
Pulkovo 1942 (1),WGS 84, 0.0000, 0.0000,WGS 84
Reserved 1
Reserved 2
Magnetic Variation,,,E
Map Projection,Transverse Mercator,PolyCal,No,AutoCalOnly,No,BSBUseWPX,No
Point01,xy, 108, 133,in, deg, 0, 40.0000,N, 43, 0.0000,E, grid, , , ,N
Point02,xy, 2909, 128,in, deg, 0, 40.0000,N, 44, 0.0000,E, grid, , , ,N
Point03,xy, 2911, 1995,in, deg, 0, 0.0000,N, 44, 0.0000,E, grid, , , ,N
Point04,xy, 112, 2000,in, deg, 0, 0.0000,N, 43, 0.0000,E, grid, , , ,N
Point05,xy, 1511, 1064,in, deg, 0, 20.0000,N, 43, 30.0000,E, grid, , , ,N
Point06,xy, 1508, 131,in, deg, 0, 40.0000,N, 43, 30.0000,E, grid, , , ,N
Point07,xy, 110, 1067,in, deg, 0, 20.0000,N, 43, 0.0000,E, grid, , , ,N
Point08,xy, 2911, 1062,in, deg, 0, 20.0000,N, 44, 0.0000,E, grid, , , ,N
Point09,xy, 1513, 1997,in, deg, 0, 0.0000,N, 43, 30.0000,E, grid, , , ,N
Point10,xy, , ,in, deg, , ,N, , ,W, grid, , , ,N
Point11,xy, , ,in, deg, , ,N, , ,W, grid, , , ,N
Point12,xy, , ,in, deg, , ,N, , ,W, grid, , , ,N
Point13,xy, , ,in, deg, , ,N, , ,W, grid, , , ,N
Point14,xy, , ,in, deg, , ,N, , ,W, grid, , , ,N
Point15,xy, , ,in, deg, , ,N, , ,W, grid, , , ,N
Point16,xy, , ,in, deg, , ,N, , ,W, grid, , , ,N
Point17,xy, , ,in, deg, , ,N, , ,W, grid, , , ,N
Point18,xy, , ,in, deg, , ,N, , ,W, grid, , , ,N
Point19,xy, , ,in, deg, , ,N, , ,W, grid, , , ,N
Point20,xy, , ,in, deg, , ,N, , ,W, grid, , , ,N
Point21,xy, , ,in, deg, , ,N, , ,W, grid, , , ,N
Point22,xy, , ,in, deg, , ,N, , ,W, grid, , , ,N
Point23,xy, , ,in, deg, , ,N, , ,W, grid, , , ,N
Point24,xy, , ,in, deg, , ,N, , ,W, grid, , , ,N
Point25,xy, , ,in, deg, , ,N, , ,W, grid, , , ,N
Point26,xy, , ,in, deg, , ,N, , ,W, grid, , , ,N
Point27,xy, , ,in, deg, , ,N, , ,W, grid, , , ,N
Point28,xy, , ,in, deg, , ,N, , ,W, grid, , , ,N
Point29,xy, , ,in, deg, , ,N, , ,W, grid, , , ,N
Point30,xy, , ,in, deg, , ,N, , ,W, grid, , , ,N
Projection Setup, 0.000000000, 45.000000000, 1.000000000, 8500000.00, 0.00,,,,,
Map Feature = MF ; Map Comment = MC These follow if they exist
Track File = TF These follow if they exist
Moving Map Parameters = MM? These follow if they exist
MM0,Yes
MMPNUM,4
MMPXY,1,107,132
MMPXY,2,2910,126
MMPXY,3,2912,1996
MMPXY,4,111,2000
MMPLL,1, 42.999516, 0.667038
MMPLL,2, 44.000508, 0.667548
MMPLL,3, 43.999877, -0.000454
MMPLL,4, 42.999668, 0.000057
MM1B,39.749957
Other Grid Setup
GRGRID,Yes,4 Km,No,16711680,255,4 Km,0,16777215,8,0,Yes,Yes,No,x
MOP,Map Open Position,0,0
IWH,Map Image Width/Height,3000,2191
