OziExplorer Map Data File Version 2.2
a37-36
a37-36.jpg
1 ,Map Code,
Pulkovo 1942 (1),WGS 84, 0.0000, 0.0000,WGS 84
Reserved 1
Reserved 2
Magnetic Variation,,,E
Map Projection,Transverse Mercator,PolyCal,No,AutoCalOnly,No,BSBUseWPX,No
Point01,xy, 111, 133,in, deg, 0, 40.0000,N, 41, 0.0000,E, grid, , , ,N
Point02,xy, 2890, 134,in, deg, 0, 40.0000,N, 42, 0.0000,E, grid, , , ,N
Point03,xy, 2888, 1985,in, deg, 0, 0.0000,N, 42, 0.0000,E, grid, , , ,N
Point04,xy, 110, 1982,in, deg, 0, 0.0000,N, 41, 0.0000,E, grid, , , ,N
Point05,xy, 1498, 1058,in, deg, 0, 20.0000,N, 41, 30.0000,E, grid, , , ,N
Point06,xy, 1500, 134,in, deg, 0, 40.0000,N, 41, 30.0000,E, grid, , , ,N
Point07,xy, 111, 1058,in, deg, 0, 20.0000,N, 41, 0.0000,E, grid, , , ,N
Point08,xy, 2889, 1059,in, deg, 0, 20.0000,N, 42, 0.0000,E, grid, , , ,N
Point09,xy, 1497, 1983,in, deg, 0, 0.0000,N, 41, 30.0000,E, grid, , , ,N
Point10,xy, , ,in, deg, , ,N, , ,W, grid, , , ,N
Point11,xy, , ,in, deg, , ,N, , ,W, grid, , , ,N
Point12,xy, , ,in, deg, , ,N, , ,W, grid, , , ,N
Point13,xy, , ,in, deg, , ,N, , ,W, grid, , , ,N
Point14,xy, , ,in, deg, , ,N, , ,W, grid, , , ,N
Point15,xy, , ,in, deg, , ,N, , ,W, grid, , , ,N
Point16,xy, , ,in, deg, , ,N, , ,W, grid, , , ,N
Point17,xy, , ,in, deg, , ,N, , ,W, grid, , , ,N
Point18,xy, , ,in, deg, , ,N, , ,W, grid, , , ,N
Point19,xy, , ,in, deg, , ,N, , ,W, grid, , , ,N
Point20,xy, , ,in, deg, , ,N, , ,W, grid, , , ,N
Point21,xy, , ,in, deg, , ,N, , ,W, grid, , , ,N
Point22,xy, , ,in, deg, , ,N, , ,W, grid, , , ,N
Point23,xy, , ,in, deg, , ,N, , ,W, grid, , , ,N
Point24,xy, , ,in, deg, , ,N, , ,W, grid, , , ,N
Point25,xy, , ,in, deg, , ,N, , ,W, grid, , , ,N
Point26,xy, , ,in, deg, , ,N, , ,W, grid, , , ,N
Point27,xy, , ,in, deg, , ,N, , ,W, grid, , , ,N
Point28,xy, , ,in, deg, , ,N, , ,W, grid, , , ,N
Point29,xy, , ,in, deg, , ,N, , ,W, grid, , , ,N
Point30,xy, , ,in, deg, , ,N, , ,W, grid, , , ,N
Projection Setup, 0.000000000, 39.000000000, 1.000000000, 7500000.00, 0.00,,,,,
Map Feature = MF ; Map Comment = MC These follow if they exist
Track File = TF These follow if they exist
Moving Map Parameters = MM? These follow if they exist
MM0,Yes
MMPNUM,4
MMPXY,1,109,131
MMPXY,2,2890,133
MMPXY,3,2889,1986
MMPXY,4,109,1984
MMPLL,1, 40.999182, 0.667427
MMPLL,2, 42.000181, 0.667051
MMPLL,3, 42.000509, -0.000552
MMPLL,4, 40.999937, -0.000689
MM1B,40.089421
Other Grid Setup
GRGRID,Yes,4 Km,No,16711680,255,4 Km,0,16777215,8,0,Yes,Yes,No,x
MOP,Map Open Position,0,0
IWH,Map Image Width/Height,3000,2193
