OziExplorer Map Data File Version 2.2
a37-30e
a37-30e.jpg
1 ,Map Code,
Pulkovo 1942 (1),WGS 84, 0.0000, 0.0000,WGS 84
Reserved 1
Reserved 2
Magnetic Variation,,,E
Map Projection,Transverse Mercator,PolyCal,No,AutoCalOnly,No,BSBUseWPX,No
Point01,xy, 152, 299,in, deg, 1, 20.0000,N, 41, 0.0000,E, grid, , , ,N
Point02,xy, 6740, 322,in, deg, 1, 20.0000,N, 42, 0.0000,E, grid, , , ,N
Point03,xy, 6733, 4689,in, deg, 0, 40.0000,N, 42, 0.0000,E, grid, , , ,N
Point04,xy, 146, 4660,in, deg, 0, 40.0000,N, 41, 0.0000,E, grid, , , ,N
Point05,xy, 3443, 2494,in, deg, 1, 0.0000,N, 41, 30.0000,E, grid, , , ,N
Point06,xy, 3446, 306,in, deg, 1, 20.0000,N, 41, 30.0000,E, grid, , , ,N
Point07,xy, 150, 2478,in, deg, 1, 0.0000,N, 41, 0.0000,E, grid, , , ,N
Point08,xy, 6737, 2505,in, deg, 1, 0.0000,N, 42, 0.0000,E, grid, , , ,N
Point09,xy, 3439, 4682,in, deg, 0, 40.0000,N, 41, 30.0000,E, grid, , , ,N
Point10,xy, , ,in, deg, , ,N, , ,W, grid, , , ,N
Point11,xy, , ,in, deg, , ,N, , ,W, grid, , , ,N
Point12,xy, , ,in, deg, , ,N, , ,W, grid, , , ,N
Point13,xy, , ,in, deg, , ,N, , ,W, grid, , , ,N
Point14,xy, , ,in, deg, , ,N, , ,W, grid, , , ,N
Point15,xy, , ,in, deg, , ,N, , ,W, grid, , , ,N
Point16,xy, , ,in, deg, , ,N, , ,W, grid, , , ,N
Point17,xy, , ,in, deg, , ,N, , ,W, grid, , , ,N
Point18,xy, , ,in, deg, , ,N, , ,W, grid, , , ,N
Point19,xy, , ,in, deg, , ,N, , ,W, grid, , , ,N
Point20,xy, , ,in, deg, , ,N, , ,W, grid, , , ,N
Point21,xy, , ,in, deg, , ,N, , ,W, grid, , , ,N
Point22,xy, , ,in, deg, , ,N, , ,W, grid, , , ,N
Point23,xy, , ,in, deg, , ,N, , ,W, grid, , , ,N
Point24,xy, , ,in, deg, , ,N, , ,W, grid, , , ,N
Point25,xy, , ,in, deg, , ,N, , ,W, grid, , , ,N
Point26,xy, , ,in, deg, , ,N, , ,W, grid, , , ,N
Point27,xy, , ,in, deg, , ,N, , ,W, grid, , , ,N
Point28,xy, , ,in, deg, , ,N, , ,W, grid, , , ,N
Point29,xy, , ,in, deg, , ,N, , ,W, grid, , , ,N
Point30,xy, , ,in, deg, , ,N, , ,W, grid, , , ,N
Projection Setup, 0.000000000, 39.000000000, 1.000000000, 7500000.00, 0.00,,,,,
Map Feature = MF ; Map Comment = MC These follow if they exist
Track File = TF These follow if they exist
Moving Map Parameters = MM? These follow if they exist
MM0,Yes
MMPNUM,4
MMPXY,1,150,298
MMPXY,2,6742,321
MMPXY,3,6734,4690
MMPXY,4,146,4661
MMPLL,1, 40.999541, 1.333078
MMPLL,2, 42.000356, 1.333334
MMPLL,3, 42.000052, 0.666778
MMPLL,4, 41.000046, 0.666929
MM1B,16.906055
Other Grid Setup
GRGRID,Yes,4 Km,No,16711680,255,4 Km,0,16777215,8,0,Yes,Yes,No,x
MOP,Map Open Position,0,0
IWH,Map Image Width/Height,6841,5056
