OziExplorer Map Data File Version 2.2
a37-18e
a37-18e.jpg
1 ,Map Code,
Pulkovo 1942 (1),WGS 84, 0.0000, 0.0000,WGS 84
Reserved 1
Reserved 2
Magnetic Variation,,,E
Map Projection,Transverse Mercator,PolyCal,No,AutoCalOnly,No,BSBUseWPX,No
Point01,xy, 140, 317,in, deg, 2, 40.0000,N, 41, 0.0000,E, grid, , , ,N
Point02,xy, 6723, 351,in, deg, 2, 40.0000,N, 42, 0.0000,E, grid, , , ,N
Point03,xy, 6710, 4722,in, deg, 2, 0.0000,N, 42, 0.0000,E, grid, , , ,N
Point04,xy, 124, 4682,in, deg, 2, 0.0000,N, 41, 0.0000,E, grid, , , ,N
Point05,xy, 3422, 2519,in, deg, 2, 20.0000,N, 41, 30.0000,E, grid, , , ,N
Point06,xy, 3432, 331,in, deg, 2, 40.0000,N, 41, 30.0000,E, grid, , , ,N
Point07,xy, 132, 2498,in, deg, 2, 20.0000,N, 41, 0.0000,E, grid, , , ,N
Point08,xy, 6716, 2537,in, deg, 2, 20.0000,N, 42, 0.0000,E, grid, , , ,N
Point09,xy, 3419, 4708,in, deg, 2, 0.0000,N, 41, 30.0000,E, grid, , , ,N
Point10,xy, , ,in, deg, , ,N, , ,W, grid, , , ,N
Point11,xy, , ,in, deg, , ,N, , ,W, grid, , , ,N
Point12,xy, , ,in, deg, , ,N, , ,W, grid, , , ,N
Point13,xy, , ,in, deg, , ,N, , ,W, grid, , , ,N
Point14,xy, , ,in, deg, , ,N, , ,W, grid, , , ,N
Point15,xy, , ,in, deg, , ,N, , ,W, grid, , , ,N
Point16,xy, , ,in, deg, , ,N, , ,W, grid, , , ,N
Point17,xy, , ,in, deg, , ,N, , ,W, grid, , , ,N
Point18,xy, , ,in, deg, , ,N, , ,W, grid, , , ,N
Point19,xy, , ,in, deg, , ,N, , ,W, grid, , , ,N
Point20,xy, , ,in, deg, , ,N, , ,W, grid, , , ,N
Point21,xy, , ,in, deg, , ,N, , ,W, grid, , , ,N
Point22,xy, , ,in, deg, , ,N, , ,W, grid, , , ,N
Point23,xy, , ,in, deg, , ,N, , ,W, grid, , , ,N
Point24,xy, , ,in, deg, , ,N, , ,W, grid, , , ,N
Point25,xy, , ,in, deg, , ,N, , ,W, grid, , , ,N
Point26,xy, , ,in, deg, , ,N, , ,W, grid, , , ,N
Point27,xy, , ,in, deg, , ,N, , ,W, grid, , , ,N
Point28,xy, , ,in, deg, , ,N, , ,W, grid, , , ,N
Point29,xy, , ,in, deg, , ,N, , ,W, grid, , , ,N
Point30,xy, , ,in, deg, , ,N, , ,W, grid, , , ,N
Projection Setup, 0.000000000, 39.000000000, 1.000000000, 7500000.00, 0.00,,,,,
Map Feature = MF ; Map Comment = MC These follow if they exist
Track File = TF These follow if they exist
Moving Map Parameters = MM? These follow if they exist
MM0,Yes
MMPNUM,4
MMPXY,1,139,316
MMPXY,2,6724,350
MMPXY,3,6711,4722
MMPXY,4,124,4683
MMPLL,1, 40.999854, 2.666455
MMPLL,2, 42.000195, 2.666759
MMPLL,3, 42.000111, 2.000205
MMPLL,4, 40.999936, 2.000151
MM1B,16.902014
Other Grid Setup
GRGRID,Yes,4 Km,No,16711680,255,4 Km,0,16777215,8,0,Yes,Yes,No,x
MOP,Map Open Position,0,0
IWH,Map Image Width/Height,6824,5059
