OziExplorer Map Data File Version 2.2
a37-18
a37-18.jpg
1 ,Map Code,
Pulkovo 1942 (1),WGS 84, 0.0000, 0.0000,WGS 84
Reserved 1
Reserved 2
Magnetic Variation,,,E
Map Projection,Transverse Mercator,PolyCal,No,AutoCalOnly,No,BSBUseWPX,No
Point01,xy, 90, 156,in, deg, 2, 40.0000,N, 41, 0.0000,E, grid, , , ,N
Point02,xy, 2872, 156,in, deg, 2, 40.0000,N, 42, 0.0000,E, grid, , , ,N
Point03,xy, 2873, 2013,in, deg, 2, 0.0000,N, 42, 0.0000,E, grid, , , ,N
Point04,xy, 89, 2010,in, deg, 2, 0.0000,N, 41, 0.0000,E, grid, , , ,N
Point05,xy, 1479, 1085,in, deg, 2, 20.0000,N, 41, 30.0000,E, grid, , , ,N
Point06,xy, 1481, 157,in, deg, 2, 40.0000,N, 41, 30.0000,E, grid, , , ,N
Point07,xy, 90, 1083,in, deg, 2, 20.0000,N, 41, 0.0000,E, grid, , , ,N
Point08,xy, 2872, 1085,in, deg, 2, 20.0000,N, 42, 0.0000,E, grid, , , ,N
Point09,xy, 1481, 2012,in, deg, 2, 0.0000,N, 41, 30.0000,E, grid, , , ,N
Point10,xy, , ,in, deg, , ,N, , ,W, grid, , , ,N
Point11,xy, , ,in, deg, , ,N, , ,W, grid, , , ,N
Point12,xy, , ,in, deg, , ,N, , ,W, grid, , , ,N
Point13,xy, , ,in, deg, , ,N, , ,W, grid, , , ,N
Point14,xy, , ,in, deg, , ,N, , ,W, grid, , , ,N
Point15,xy, , ,in, deg, , ,N, , ,W, grid, , , ,N
Point16,xy, , ,in, deg, , ,N, , ,W, grid, , , ,N
Point17,xy, , ,in, deg, , ,N, , ,W, grid, , , ,N
Point18,xy, , ,in, deg, , ,N, , ,W, grid, , , ,N
Point19,xy, , ,in, deg, , ,N, , ,W, grid, , , ,N
Point20,xy, , ,in, deg, , ,N, , ,W, grid, , , ,N
Point21,xy, , ,in, deg, , ,N, , ,W, grid, , , ,N
Point22,xy, , ,in, deg, , ,N, , ,W, grid, , , ,N
Point23,xy, , ,in, deg, , ,N, , ,W, grid, , , ,N
Point24,xy, , ,in, deg, , ,N, , ,W, grid, , , ,N
Point25,xy, , ,in, deg, , ,N, , ,W, grid, , , ,N
Point26,xy, , ,in, deg, , ,N, , ,W, grid, , , ,N
Point27,xy, , ,in, deg, , ,N, , ,W, grid, , , ,N
Point28,xy, , ,in, deg, , ,N, , ,W, grid, , , ,N
Point29,xy, , ,in, deg, , ,N, , ,W, grid, , , ,N
Point30,xy, , ,in, deg, , ,N, , ,W, grid, , , ,N
Projection Setup, 0.000000000, 39.000000000, 1.000000000, 7500000.00, 0.00,,,,,
Map Feature = MF ; Map Comment = MC These follow if they exist
Track File = TF These follow if they exist
Moving Map Parameters = MM? These follow if they exist
MM0,Yes
MMPNUM,4
MMPXY,1,89,156
MMPXY,2,2874,156
MMPXY,3,2874,2015
MMPXY,4,89,2011
MMPLL,1, 40.999701, 2.666620
MMPLL,2, 42.000782, 2.666964
MMPLL,3, 42.000545, 1.999244
MMPLL,4, 40.999938, 1.999826
MM1B,39.994563
Other Grid Setup
GRGRID,Yes,4 Km,No,16711680,255,4 Km,0,16777215,8,0,Yes,Yes,No,x
MOP,Map Open Position,0,0
IWH,Map Image Width/Height,3000,2275
