OziExplorer Map Data File Version 2.2
a37-12e
a37-12e.jpg
1 ,Map Code,
Pulkovo 1942 (1),WGS 84, 0.0000, 0.0000,WGS 84
Reserved 1
Reserved 2
Magnetic Variation,,,E
Map Projection,Transverse Mercator,PolyCal,No,AutoCalOnly,No,BSBUseWPX,No
Point01,xy, 135, 330,in, deg, 3, 20.0000,N, 41, 0.0000,E, grid, , , ,N
Point02,xy, 6715, 364,in, deg, 3, 20.0000,N, 42, 0.0000,E, grid, , , ,N
Point03,xy, 6705, 4733,in, deg, 2, 40.0000,N, 42, 0.0000,E, grid, , , ,N
Point04,xy, 121, 4695,in, deg, 2, 40.0000,N, 41, 0.0000,E, grid, , , ,N
Point05,xy, 3421, 2531,in, deg, 3, 0.0000,N, 41, 30.0000,E, grid, , , ,N
Point06,xy, 3424, 344,in, deg, 3, 20.0000,N, 41, 30.0000,E, grid, , , ,N
Point07,xy, 129, 2512,in, deg, 3, 0.0000,N, 41, 0.0000,E, grid, , , ,N
Point08,xy, 6709, 2550,in, deg, 3, 0.0000,N, 42, 0.0000,E, grid, , , ,N
Point09,xy, 3414, 4718,in, deg, 2, 40.0000,N, 41, 30.0000,E, grid, , , ,N
Point10,xy, , ,in, deg, , ,N, , ,W, grid, , , ,N
Point11,xy, , ,in, deg, , ,N, , ,W, grid, , , ,N
Point12,xy, , ,in, deg, , ,N, , ,W, grid, , , ,N
Point13,xy, , ,in, deg, , ,N, , ,W, grid, , , ,N
Point14,xy, , ,in, deg, , ,N, , ,W, grid, , , ,N
Point15,xy, , ,in, deg, , ,N, , ,W, grid, , , ,N
Point16,xy, , ,in, deg, , ,N, , ,W, grid, , , ,N
Point17,xy, , ,in, deg, , ,N, , ,W, grid, , , ,N
Point18,xy, , ,in, deg, , ,N, , ,W, grid, , , ,N
Point19,xy, , ,in, deg, , ,N, , ,W, grid, , , ,N
Point20,xy, , ,in, deg, , ,N, , ,W, grid, , , ,N
Point21,xy, , ,in, deg, , ,N, , ,W, grid, , , ,N
Point22,xy, , ,in, deg, , ,N, , ,W, grid, , , ,N
Point23,xy, , ,in, deg, , ,N, , ,W, grid, , , ,N
Point24,xy, , ,in, deg, , ,N, , ,W, grid, , , ,N
Point25,xy, , ,in, deg, , ,N, , ,W, grid, , , ,N
Point26,xy, , ,in, deg, , ,N, , ,W, grid, , , ,N
Point27,xy, , ,in, deg, , ,N, , ,W, grid, , , ,N
Point28,xy, , ,in, deg, , ,N, , ,W, grid, , , ,N
Point29,xy, , ,in, deg, , ,N, , ,W, grid, , , ,N
Point30,xy, , ,in, deg, , ,N, , ,W, grid, , , ,N
Projection Setup, 0.000000000, 39.000000000, 1.000000000, 7500000.00, 0.00,,,,,
Map Feature = MF ; Map Comment = MC These follow if they exist
Track File = TF These follow if they exist
Moving Map Parameters = MM? These follow if they exist
MM0,Yes
MMPNUM,4
MMPXY,1,135,329
MMPXY,2,6716,362
MMPXY,3,6706,4734
MMPXY,4,121,4696
MMPLL,1, 40.999946, 3.333232
MMPLL,2, 42.000203, 3.333536
MMPLL,3, 42.000103, 2.666727
MMPLL,4, 40.999844, 2.666673
MM1B,16.900604
Other Grid Setup
GRGRID,Yes,4 Km,No,16711680,255,4 Km,0,16777215,8,0,Yes,Yes,No,x
MOP,Map Open Position,0,0
IWH,Map Image Width/Height,6850,5058
