OziExplorer Map Data File Version 2.2
a37-12
a37-12.jpg
1 ,Map Code,
Pulkovo 1942 (1),WGS 84, 0.0000, 0.0000,WGS 84
Reserved 1
Reserved 2
Magnetic Variation,,,E
Map Projection,Transverse Mercator,PolyCal,No,AutoCalOnly,No,BSBUseWPX,No
Point01,xy, 109, 135,in, deg, 3, 20.0000,N, 41, 0.0000,E, grid, , , ,N
Point02,xy, 2892, 135,in, deg, 3, 20.0000,N, 42, 0.0000,E, grid, , , ,N
Point03,xy, 2893, 1994,in, deg, 2, 40.0000,N, 42, 0.0000,E, grid, , , ,N
Point04,xy, 108, 1991,in, deg, 2, 40.0000,N, 41, 0.0000,E, grid, , , ,N
Point05,xy, 1501, 1065,in, deg, 3, 0.0000,N, 41, 30.0000,E, grid, , , ,N
Point06,xy, 1500, 135,in, deg, 3, 20.0000,N, 41, 30.0000,E, grid, , , ,N
Point07,xy, 108, 1064,in, deg, 3, 0.0000,N, 41, 0.0000,E, grid, , , ,N
Point08,xy, 2892, 1065,in, deg, 3, 0.0000,N, 42, 0.0000,E, grid, , , ,N
Point09,xy, 1500, 1992,in, deg, 2, 40.0000,N, 41, 30.0000,E, grid, , , ,N
Point10,xy, , ,in, deg, , ,N, , ,W, grid, , , ,N
Point11,xy, , ,in, deg, , ,N, , ,W, grid, , , ,N
Point12,xy, , ,in, deg, , ,N, , ,W, grid, , , ,N
Point13,xy, , ,in, deg, , ,N, , ,W, grid, , , ,N
Point14,xy, , ,in, deg, , ,N, , ,W, grid, , , ,N
Point15,xy, , ,in, deg, , ,N, , ,W, grid, , , ,N
Point16,xy, , ,in, deg, , ,N, , ,W, grid, , , ,N
Point17,xy, , ,in, deg, , ,N, , ,W, grid, , , ,N
Point18,xy, , ,in, deg, , ,N, , ,W, grid, , , ,N
Point19,xy, , ,in, deg, , ,N, , ,W, grid, , , ,N
Point20,xy, , ,in, deg, , ,N, , ,W, grid, , , ,N
Point21,xy, , ,in, deg, , ,N, , ,W, grid, , , ,N
Point22,xy, , ,in, deg, , ,N, , ,W, grid, , , ,N
Point23,xy, , ,in, deg, , ,N, , ,W, grid, , , ,N
Point24,xy, , ,in, deg, , ,N, , ,W, grid, , , ,N
Point25,xy, , ,in, deg, , ,N, , ,W, grid, , , ,N
Point26,xy, , ,in, deg, , ,N, , ,W, grid, , , ,N
Point27,xy, , ,in, deg, , ,N, , ,W, grid, , , ,N
Point28,xy, , ,in, deg, , ,N, , ,W, grid, , , ,N
Point29,xy, , ,in, deg, , ,N, , ,W, grid, , , ,N
Point30,xy, , ,in, deg, , ,N, , ,W, grid, , , ,N
Projection Setup, 0.000000000, 39.000000000, 1.000000000, 7500000.00, 0.00,,,,,
Map Feature = MF ; Map Comment = MC These follow if they exist
Track File = TF These follow if they exist
Moving Map Parameters = MM? These follow if they exist
MM0,Yes
MMPNUM,4
MMPXY,1,107,133
MMPXY,2,2893,134
MMPXY,3,2894,1995
MMPXY,4,107,1993
MMPLL,1, 40.999348, 3.334016
MMPLL,2, 42.000377, 3.333880
MMPLL,3, 42.000431, 2.666162
MMPLL,4, 40.999652, 2.666145
MM1B,39.953811
Other Grid Setup
GRGRID,Yes,4 Km,No,16711680,255,4 Km,0,16777215,8,0,Yes,Yes,No,x
MOP,Map Open Position,0,0
IWH,Map Image Width/Height,3000,2168
