OziExplorer Map Data File Version 2.2
a37-06e
a37-06e.jpg
1 ,Map Code,
Pulkovo 1942 (1),WGS 84, 0.0000, 0.0000,WGS 84
Reserved 1
Reserved 2
Magnetic Variation,,,E
Map Projection,Transverse Mercator,PolyCal,No,AutoCalOnly,No,BSBUseWPX,No
Point01,xy, 141, 368,in, deg, 4, 0.0000,N, 41, 0.0000,E, grid, , , ,N
Point02,xy, 6718, 396,in, deg, 4, 0.0000,N, 42, 0.0000,E, grid, , , ,N
Point03,xy, 6710, 4768,in, deg, 3, 20.0000,N, 42, 0.0000,E, grid, , , ,N
Point04,xy, 131, 4736,in, deg, 3, 20.0000,N, 41, 0.0000,E, grid, , , ,N
Point05,xy, 3422, 2568,in, deg, 3, 40.0000,N, 41, 30.0000,E, grid, , , ,N
Point06,xy, 3430, 376,in, deg, 4, 0.0000,N, 41, 30.0000,E, grid, , , ,N
Point07,xy, 138, 2553,in, deg, 3, 40.0000,N, 41, 0.0000,E, grid, , , ,N
Point08,xy, 6713, 2583,in, deg, 3, 40.0000,N, 42, 0.0000,E, grid, , , ,N
Point09,xy, 3422, 4758,in, deg, 3, 20.0000,N, 41, 30.0000,E, grid, , , ,N
Point10,xy, , ,in, deg, , ,N, , ,W, grid, , , ,N
Point11,xy, , ,in, deg, , ,N, , ,W, grid, , , ,N
Point12,xy, , ,in, deg, , ,N, , ,W, grid, , , ,N
Point13,xy, , ,in, deg, , ,N, , ,W, grid, , , ,N
Point14,xy, , ,in, deg, , ,N, , ,W, grid, , , ,N
Point15,xy, , ,in, deg, , ,N, , ,W, grid, , , ,N
Point16,xy, , ,in, deg, , ,N, , ,W, grid, , , ,N
Point17,xy, , ,in, deg, , ,N, , ,W, grid, , , ,N
Point18,xy, , ,in, deg, , ,N, , ,W, grid, , , ,N
Point19,xy, , ,in, deg, , ,N, , ,W, grid, , , ,N
Point20,xy, , ,in, deg, , ,N, , ,W, grid, , , ,N
Point21,xy, , ,in, deg, , ,N, , ,W, grid, , , ,N
Point22,xy, , ,in, deg, , ,N, , ,W, grid, , , ,N
Point23,xy, , ,in, deg, , ,N, , ,W, grid, , , ,N
Point24,xy, , ,in, deg, , ,N, , ,W, grid, , , ,N
Point25,xy, , ,in, deg, , ,N, , ,W, grid, , , ,N
Point26,xy, , ,in, deg, , ,N, , ,W, grid, , , ,N
Point27,xy, , ,in, deg, , ,N, , ,W, grid, , , ,N
Point28,xy, , ,in, deg, , ,N, , ,W, grid, , , ,N
Point29,xy, , ,in, deg, , ,N, , ,W, grid, , , ,N
Point30,xy, , ,in, deg, , ,N, , ,W, grid, , , ,N
Projection Setup, 0.000000000, 39.000000000, 1.000000000, 7500000.00, 0.00,,,,,
Map Feature = MF ; Map Comment = MC These follow if they exist
Track File = TF These follow if they exist
Moving Map Parameters = MM? These follow if they exist
MM0,Yes
MMPNUM,4
MMPXY,1,139,366
MMPXY,2,6719,396
MMPXY,3,6711,4768
MMPXY,4,130,4738
MMPLL,1, 40.999515, 3.999973
MMPLL,2, 42.000348, 3.999720
MMPLL,3, 42.000078, 3.333622
MMPLL,4, 40.999835, 3.333365
MM1B,16.900407
Other Grid Setup
GRGRID,Yes,4 Km,No,16711680,255,4 Km,0,16777215,8,0,Yes,Yes,No,x
MOP,Map Open Position,0,0
IWH,Map Image Width/Height,6850,5135
