OziExplorer Map Data File Version 2.2
a36-06
a36-06.jpg
1 ,Map Code,
Pulkovo 1942 (1),WGS 84, 0.0000, 0.0000,WGS 84
Reserved 1
Reserved 2
Magnetic Variation,,,E
Map Projection,Transverse Mercator,PolyCal,No,AutoCalOnly,No,BSBUseWPX,No
Point01,xy, 124, 304,in, deg, 4, 0.0000,N, 35, 0.0000,E, grid, , , ,N
Point02,xy, 6702, 360,in, deg, 4, 0.0000,N, 36, 0.0000,E, grid, , , ,N
Point03,xy, 6675, 4733,in, deg, 3, 20.0000,N, 36, 0.0000,E, grid, , , ,N
Point04,xy, 93, 4675,in, deg, 3, 20.0000,N, 35, 0.0000,E, grid, , , ,N
Point05,xy, 3397, 2520,in, deg, 3, 40.0000,N, 35, 30.0000,E, grid, , , ,N
Point06,xy, 3413, 330,in, deg, 4, 0.0000,N, 35, 30.0000,E, grid, , , ,N
Point07,xy, 110, 2488,in, deg, 3, 40.0000,N, 35, 0.0000,E, grid, , , ,N
Point08,xy, 6689, 2547,in, deg, 3, 40.0000,N, 36, 0.0000,E, grid, , , ,N
Point09,xy, 3386, 4711,in, deg, 3, 20.0000,N, 35, 30.0000,E, grid, , , ,N
Point10,xy, , ,in, deg, , ,N, , ,W, grid, , , ,N
Point11,xy, , ,in, deg, , ,N, , ,W, grid, , , ,N
Point12,xy, , ,in, deg, , ,N, , ,W, grid, , , ,N
Point13,xy, , ,in, deg, , ,N, , ,W, grid, , , ,N
Point14,xy, , ,in, deg, , ,N, , ,W, grid, , , ,N
Point15,xy, , ,in, deg, , ,N, , ,W, grid, , , ,N
Point16,xy, , ,in, deg, , ,N, , ,W, grid, , , ,N
Point17,xy, , ,in, deg, , ,N, , ,W, grid, , , ,N
Point18,xy, , ,in, deg, , ,N, , ,W, grid, , , ,N
Point19,xy, , ,in, deg, , ,N, , ,W, grid, , , ,N
Point20,xy, , ,in, deg, , ,N, , ,W, grid, , , ,N
Point21,xy, , ,in, deg, , ,N, , ,W, grid, , , ,N
Point22,xy, , ,in, deg, , ,N, , ,W, grid, , , ,N
Point23,xy, , ,in, deg, , ,N, , ,W, grid, , , ,N
Point24,xy, , ,in, deg, , ,N, , ,W, grid, , , ,N
Point25,xy, , ,in, deg, , ,N, , ,W, grid, , , ,N
Point26,xy, , ,in, deg, , ,N, , ,W, grid, , , ,N
Point27,xy, , ,in, deg, , ,N, , ,W, grid, , , ,N
Point28,xy, , ,in, deg, , ,N, , ,W, grid, , , ,N
Point29,xy, , ,in, deg, , ,N, , ,W, grid, , , ,N
Point30,xy, , ,in, deg, , ,N, , ,W, grid, , , ,N
Projection Setup, 0.000000000, 33.000000000, 1.000000000, 6500000.00, 0.00,,,,,
Map Feature = MF ; Map Comment = MC These follow if they exist
Track File = TF These follow if they exist
Moving Map Parameters = MM? These follow if they exist
MM0,Yes
MMPNUM,4
MMPXY,1,123,302
MMPXY,2,6704,358
MMPXY,3,6676,4733
MMPXY,4,91,4677
MMPLL,1, 34.999776, 4.000127
MMPLL,2, 36.000354, 4.000127
MMPLL,3, 36.000034, 3.333724
MMPLL,4, 34.999590, 3.333208
MM1B,16.892552
Other Grid Setup
GRGRID,Yes,4 Km,No,16711680,255,4 Km,0,16777215,8,0,Yes,Yes,No,x
MOP,Map Open Position,0,0
IWH,Map Image Width/Height,6791,5068
