OziExplorer Map Data File Version 2.2
a34-01
a34-01.jpg
1 ,Map Code,
Pulkovo 1942 (1),WGS 84, 0.0000, 0.0000,WGS 84
Reserved 1
Reserved 2
Magnetic Variation,,,E
Map Projection,Transverse Mercator,PolyCal,No,AutoCalOnly,No,BSBUseWPX,No
Point01,xy, 135, 352,in, deg, 4, 0.0000,N, 18, 0.0000,E, grid, , , ,N
Point02,xy, 6711, 372,in, deg, 4, 0.0000,N, 19, 0.0000,E, grid, , , ,N
Point03,xy, 6712, 4746,in, deg, 3, 20.0000,N, 19, 0.0000,E, grid, , , ,N
Point04,xy, 128, 4727,in, deg, 3, 20.0000,N, 18, 0.0000,E, grid, , , ,N
Point05,xy, 3421, 2551,in, deg, 3, 40.0000,N, 18, 30.0000,E, grid, , , ,N
Point06,xy, 3422, 356,in, deg, 4, 0.0000,N, 18, 30.0000,E, grid, , , ,N
Point07,xy, 132, 2537,in, deg, 3, 40.0000,N, 18, 0.0000,E, grid, , , ,N
Point08,xy, 6710, 2559,in, deg, 3, 40.0000,N, 19, 0.0000,E, grid, , , ,N
Point09,xy, 3420, 4746,in, deg, 3, 20.0000,N, 18, 30.0000,E, grid, , , ,N
Point10,xy, , ,in, deg, , ,N, , ,W, grid, , , ,N
Point11,xy, , ,in, deg, , ,N, , ,W, grid, , , ,N
Point12,xy, , ,in, deg, , ,N, , ,W, grid, , , ,N
Point13,xy, , ,in, deg, , ,N, , ,W, grid, , , ,N
Point14,xy, , ,in, deg, , ,N, , ,W, grid, , , ,N
Point15,xy, , ,in, deg, , ,N, , ,W, grid, , , ,N
Point16,xy, , ,in, deg, , ,N, , ,W, grid, , , ,N
Point17,xy, , ,in, deg, , ,N, , ,W, grid, , , ,N
Point18,xy, , ,in, deg, , ,N, , ,W, grid, , , ,N
Point19,xy, , ,in, deg, , ,N, , ,W, grid, , , ,N
Point20,xy, , ,in, deg, , ,N, , ,W, grid, , , ,N
Point21,xy, , ,in, deg, , ,N, , ,W, grid, , , ,N
Point22,xy, , ,in, deg, , ,N, , ,W, grid, , , ,N
Point23,xy, , ,in, deg, , ,N, , ,W, grid, , , ,N
Point24,xy, , ,in, deg, , ,N, , ,W, grid, , , ,N
Point25,xy, , ,in, deg, , ,N, , ,W, grid, , , ,N
Point26,xy, , ,in, deg, , ,N, , ,W, grid, , , ,N
Point27,xy, , ,in, deg, , ,N, , ,W, grid, , , ,N
Point28,xy, , ,in, deg, , ,N, , ,W, grid, , , ,N
Point29,xy, , ,in, deg, , ,N, , ,W, grid, , , ,N
Point30,xy, , ,in, deg, , ,N, , ,W, grid, , , ,N
Projection Setup, 0.000000000, 21.000000000, 1.000000000, 4500000.00, 0.00,,,,,
Map Feature = MF ; Map Comment = MC These follow if they exist
Track File = TF These follow if they exist
Moving Map Parameters = MM? These follow if they exist
MM0,Yes
MMPNUM,4
MMPXY,1,133,350
MMPXY,2,6712,371
MMPXY,3,6713,4747
MMPXY,4,126,4729
MMPLL,1, 17.999847, 3.999754
MMPLL,2, 19.000172, 3.999907
MMPLL,3, 19.000359, 3.333553
MMPLL,4, 17.999559, 3.333449
MM1B,16.894892
Other Grid Setup
GRGRID,Yes,4 Km,No,16711680,255,4 Km,0,16777215,8,0,Yes,Yes,No,x
MOP,Map Open Position,0,0
IWH,Map Image Width/Height,6853,5143
