OziExplorer Map Data File Version 2.2
a32-06
a32-06.jpg
1 ,Map Code,
Pulkovo 1942 (1),WGS 84, 0.0000, 0.0000,WGS 84
Reserved 1
Reserved 2
Magnetic Variation,,,E
Map Projection,Transverse Mercator,PolyCal,No,AutoCalOnly,No,BSBUseWPX,No
Point01,xy, 132, 320,in, deg, 4, 0.0000,N, 11, 0.0000,E, grid, , , ,N
Point02,xy, 6710, 362,in, deg, 4, 0.0000,N, 12, 0.0000,E, grid, , , ,N
Point03,xy, 6692, 4742,in, deg, 3, 20.0000,N, 12, 0.0000,E, grid, , , ,N
Point04,xy, 104, 4697,in, deg, 3, 20.0000,N, 11, 0.0000,E, grid, , , ,N
Point05,xy, 3409, 2531,in, deg, 3, 40.0000,N, 11, 30.0000,E, grid, , , ,N
Point06,xy, 3419, 336,in, deg, 4, 0.0000,N, 11, 30.0000,E, grid, , , ,N
Point07,xy, 118, 2507,in, deg, 3, 40.0000,N, 11, 0.0000,E, grid, , , ,N
Point08,xy, 6701, 2552,in, deg, 3, 40.0000,N, 12, 0.0000,E, grid, , , ,N
Point09,xy, 3399, 4728,in, deg, 3, 20.0000,N, 11, 30.0000,E, grid, , , ,N
Point10,xy, , ,in, deg, , ,N, , ,W, grid, , , ,N
Point11,xy, , ,in, deg, , ,N, , ,W, grid, , , ,N
Point12,xy, , ,in, deg, , ,N, , ,W, grid, , , ,N
Point13,xy, , ,in, deg, , ,N, , ,W, grid, , , ,N
Point14,xy, , ,in, deg, , ,N, , ,W, grid, , , ,N
Point15,xy, , ,in, deg, , ,N, , ,W, grid, , , ,N
Point16,xy, , ,in, deg, , ,N, , ,W, grid, , , ,N
Point17,xy, , ,in, deg, , ,N, , ,W, grid, , , ,N
Point18,xy, , ,in, deg, , ,N, , ,W, grid, , , ,N
Point19,xy, , ,in, deg, , ,N, , ,W, grid, , , ,N
Point20,xy, , ,in, deg, , ,N, , ,W, grid, , , ,N
Point21,xy, , ,in, deg, , ,N, , ,W, grid, , , ,N
Point22,xy, , ,in, deg, , ,N, , ,W, grid, , , ,N
Point23,xy, , ,in, deg, , ,N, , ,W, grid, , , ,N
Point24,xy, , ,in, deg, , ,N, , ,W, grid, , , ,N
Point25,xy, , ,in, deg, , ,N, , ,W, grid, , , ,N
Point26,xy, , ,in, deg, , ,N, , ,W, grid, , , ,N
Point27,xy, , ,in, deg, , ,N, , ,W, grid, , , ,N
Point28,xy, , ,in, deg, , ,N, , ,W, grid, , , ,N
Point29,xy, , ,in, deg, , ,N, , ,W, grid, , , ,N
Point30,xy, , ,in, deg, , ,N, , ,W, grid, , , ,N
Projection Setup, 0.000000000, 9.000000000, 1.000000000, 2500000.00, 0.00,,,,,
Map Feature = MF ; Map Comment = MC These follow if they exist
Track File = TF These follow if they exist
Moving Map Parameters = MM? These follow if they exist
MM0,Yes
MMPNUM,4
MMPXY,1,131,318
MMPXY,2,6710,361
MMPXY,3,6693,4742
MMPXY,4,103,4698
MMPLL,1, 11.000124, 3.999934
MMPLL,2, 11.999892, 3.999828
MMPLL,3, 12.000279, 3.333733
MMPLL,4, 10.999581, 3.333472
MM1B,16.884487
Other Grid Setup
GRGRID,Yes,4 Km,No,16711680,255,4 Km,0,16777215,8,0,Yes,Yes,No,x
MOP,Map Open Position,0,0
IWH,Map Image Width/Height,6840,5093
