OziExplorer Map Data File Version 2.2
Auckland.jpg
auckland.jpg
1 ,Map Code,
NZGD1949,WGS 84, 0.0000, 0.0000,WGS 84
Reserved 1
Reserved 2
Magnetic Variation,,,E
Map Projection,Transverse Mercator,PolyCal,No,AutoCalOnly,No,BSBUseWPX,No
Point01,xy, 1936, 269,in, deg, 50, 29.0000,S, 166, 2.0000,E, grid, , , ,N
Point02,xy, 5463, 242,in, deg, 50, 29.0000,S, 166, 21.0000,E, grid, , , ,N
Point03,xy, 5654, 3732,in, deg, 50, 41.0000,S, 166, 22.0000,E, grid, , , ,N
Point04,xy, 4748, 8098,in, deg, 50, 56.0000,S, 166, 17.0000,E, grid, , , ,N
Point05,xy, 325, 8123,in, deg, 50, 56.0000,S, 165, 53.0000,E, grid, , , ,N
Point06,xy, 114, 2309,in, deg, 50, 36.0000,S, 165, 52.0000,E, grid, , , ,N
Point07,xy, 1764, 2011,in, deg, 50, 35.0000,S, 166, 1.0000,E, grid, , , ,N
Point08,xy, 4913, 4022,in, deg, 50, 42.0000,S, 166, 18.0000,E, grid, , , ,N
Point09,xy, , ,in, deg, , ,N, , ,W, grid, , , ,N
Point10,xy, , ,in, deg, , ,, , ,, grid, , , ,
Point11,xy, , ,in, deg, , ,, , ,, grid, , , ,
Point12,xy, , ,in, deg, , ,, , ,, grid, , , ,
Point13,xy, , ,in, deg, , ,, , ,, grid, , , ,
Point14,xy, , ,in, deg, , ,, , ,, grid, , , ,
Point15,xy, , ,in, deg, , ,, , ,, grid, , , ,
Point16,xy, , ,in, deg, , ,, , ,, grid, , , ,
Point17,xy, , ,in, deg, , ,, , ,, grid, , , ,
Point18,xy, , ,in, deg, , ,, , ,, grid, , , ,
Point19,xy, , ,in, deg, , ,, , ,, grid, , , ,
Point20,xy, , ,in, deg, , ,, , ,, grid, , , ,
Point21,xy, , ,in, deg, , ,, , ,, grid, , , ,
Point22,xy, , ,in, deg, , ,, , ,, grid, , , ,
Point23,xy, , ,in, deg, , ,, , ,, grid, , , ,
Point24,xy, , ,in, deg, , ,, , ,, grid, , , ,
Point25,xy, , ,in, deg, , ,, , ,, grid, , , ,
Point26,xy, , ,in, deg, , ,, , ,, grid, , , ,
Point27,xy, , ,in, deg, , ,, , ,, grid, , , ,
Point28,xy, , ,in, deg, , ,, , ,, grid, , , ,
Point29,xy, , ,in, deg, , ,, , ,, grid, , , ,
Point30,xy, , ,in, deg, , ,, , ,, grid, , , ,
Projection Setup, 0.000000000, 166.166666667, 0.999600000, 0.00, 0.00,,,,,
Map Feature = MF ; Map Comment = MC These follow if they exist
Track File = TF These follow if they exist
Moving Map Parameters = MM? These follow if they exist
MM0,Yes
MMPNUM,4
MMPXY,1,54,85
MMPXY,2,5702,56
MMPXY,3,5736,8319
MMPXY,4,78,8344
MMPLL,1, 165.863903, -50.472187
MMPLL,2, 166.371415, -50.472542
MMPLL,3, 166.373585, -50.946386
MMPLL,4, 165.860026, -50.945793
MM1B,6.375793
MOP,Map Open Position,0,0
IWH,Map Image Width/Height,5781,8791
