OziExplorer Map Data File Version 2.2
BW18
BW18.ozfx3
1 ,Map Code,
NZGD2000,WGS 84, 0.0000, 0.0000,WGS 84
Reserved 1
Reserved 2
Magnetic Variation,,,E
Map Projection,(NZTM2) New Zealand TM 2000,PolyCal,No,AutoCalOnly,No,BSBUseWPX,No
Point01,xy, 0, 0,in, deg, 43, 5.8411,S, 170, 47.2908,E, grid, , , ,
Point02,xy, 5671, 0,in, deg, 43, 6.1603,S, 171, 4.9788,E, grid, , , ,
Point03,xy, 5671, 8505,in, deg, 43, 25.6003,S, 171, 4.3670,E, grid, , , ,
Point04,xy, 0, 8505,in, deg, 43, 25.2775,S, 170, 46.5850,E, grid, , , ,
Point05,xy, , ,in, deg, , ,, , ,, grid, , , ,
Point06,xy, , ,in, deg, , ,, , ,, grid, , , ,
Point07,xy, , ,in, deg, , ,, , ,, grid, , , ,
Point08,xy, , ,in, deg, , ,, , ,, grid, , , ,
Point09,xy, , ,in, deg, , ,, , ,, grid, , , ,
Point10,xy, , ,in, deg, , ,, , ,, grid, , , ,
Point11,xy, , ,in, deg, , ,, , ,, grid, , , ,
Point12,xy, , ,in, deg, , ,, , ,, grid, , , ,
Point13,xy, , ,in, deg, , ,, , ,, grid, , , ,
Point14,xy, , ,in, deg, , ,, , ,, grid, , , ,
Point15,xy, , ,in, deg, , ,, , ,, grid, , , ,
Point16,xy, , ,in, deg, , ,, , ,, grid, , , ,
Point17,xy, , ,in, deg, , ,, , ,, grid, , , ,
Point18,xy, , ,in, deg, , ,, , ,, grid, , , ,
Point19,xy, , ,in, deg, , ,, , ,, grid, , , ,
Point20,xy, , ,in, deg, , ,, , ,, grid, , , ,
Point21,xy, , ,in, deg, , ,, , ,, grid, , , ,
Point22,xy, , ,in, deg, , ,, , ,, grid, , , ,
Point23,xy, , ,in, deg, , ,, , ,, grid, , , ,
Point24,xy, , ,in, deg, , ,, , ,, grid, , , ,
Point25,xy, , ,in, deg, , ,, , ,, grid, , , ,
Point26,xy, , ,in, deg, , ,, , ,, grid, , , ,
Point27,xy, , ,in, deg, , ,, , ,, grid, , , ,
Point28,xy, , ,in, deg, , ,, , ,, grid, , , ,
Point29,xy, , ,in, deg, , ,, , ,, grid, , , ,
Point30,xy, , ,in, deg, , ,, , ,, grid, , , ,
Projection Setup, 0.000000000, 173.000000000,, 1600000.00, 10000000.00,,,,,
Map Feature = MF ; Map Comment = MC These follow if they exist
Track File = TF These follow if they exist
Moving Map Parameters = MM? These follow if they exist
MM0,Yes
MMPNUM,4
MMPXY,1,0,0
MMPXY,2,5671,0
MMPXY,3,5671,8505
MMPXY,4,0,8505
MMPLL,1, 170.788180, -43.097352
MMPLL,2, 171.082980, -43.102672
MMPLL,3, 171.072783, -43.426672
MMPLL,4, 170.776417, -43.421292
MM1B,4.230128
MOP,Map Open Position,0,0
IWH,Map Image Width/Height,5671,8505
