OziExplorer Map Data File Version 2.2
N20B-O-Estados.png
sn20-3.png
1 ,Map Code,
Pulkovo 1942 (1),, 0.0000, 0.0000,WGS 84
Reserved 1
Reserved 2
Magnetic Variation,,,E
Map Projection,Latitude/Longitude,PolyCal,Yes,AutoCalOnly,No,BSBUseWPX,No
Point01,xy, 67, 129,in, deg, 54, 0.0000,S, 66, 0.0000,W, grid, , , ,
Point02,xy, 1228, 122,in, deg, 54, 0.0000,S, 64, 30.0000,W, grid, , , ,
Point03,xy, 2385, 135,in, deg, 54, 0.0000,S, 63, 0.0000,W, grid, , , ,
Point04,xy, 96, 1449,in, deg, 55, 0.0000,S, 66, 0.0000,W, grid, , , ,
Point05,xy, 1229, 1439,in, deg, 55, 0.0000,S, 64, 30.0000,W, grid, , , ,
Point06,xy, 2357, 1452,in, deg, 55, 0.0000,S, 63, 0.0000,W, grid, , , ,
Point07,xy, 123, 2763,in, deg, 56, 0.0000,S, 66, 0.0000,W, grid, , , ,
Point08,xy, 1229, 2754,in, deg, 56, 0.0000,S, 64, 30.0000,W, grid, , , ,
Point09,xy, 2330, 2769,in, deg, 56, 0.0000,S, 63, 0.0000,W, grid, , , ,
Point10,xy, , ,in, deg, , ,, , ,, grid, , , ,
Point11,xy, , ,in, deg, , ,, , ,, grid, , , ,
Point12,xy, , ,in, deg, , ,, , ,, grid, , , ,
Point13,xy, , ,in, deg, , ,, , ,, grid, , , ,
Point14,xy, , ,in, deg, , ,, , ,, grid, , , ,
Point15,xy, , ,in, deg, , ,, , ,, grid, , , ,
Point16,xy, , ,in, deg, , ,, , ,, grid, , , ,
Point17,xy, , ,in, deg, , ,, , ,, grid, , , ,
Point18,xy, , ,in, deg, , ,, , ,, grid, , , ,
Point19,xy, , ,in, deg, , ,, , ,, grid, , , ,
Point20,xy, , ,in, deg, , ,, , ,, grid, , , ,
Point21,xy, , ,in, deg, , ,, , ,, grid, , , ,
Point22,xy, , ,in, deg, , ,, , ,, grid, , , ,
Point23,xy, , ,in, deg, , ,, , ,, grid, , , ,
Point24,xy, , ,in, deg, , ,, , ,, grid, , , ,
Point25,xy, , ,in, deg, , ,, , ,, grid, , , ,
Point26,xy, , ,in, deg, , ,, , ,, grid, , , ,
Point27,xy, , ,in, deg, , ,, , ,, grid, , , ,
Point28,xy, , ,in, deg, , ,, , ,, grid, , , ,
Point29,xy, , ,in, deg, , ,, , ,, grid, , , ,
Point30,xy, , ,in, deg, , ,, , ,, grid, , , ,
Projection Setup,,,,,,,,,,
Map Feature = MF ; Map Comment = MC These follow if they exist
Track File = TF These follow if they exist
Moving Map Parameters = MM? These follow if they exist
MM0,Yes
MMPNUM,4
MMPXY,1,0,0
MMPXY,2,2504,1
MMPXY,3,2440,2827
MMPXY,4,0,2822
MMPLL,1, -66.082673, -53.900705
MMPLL,2, -62.848799, -53.896545
MMPLL,3, -62.847703, -56.042728
MMPLL,4, -66.168678, -56.042929
MM1B,84.573612
MOP,Map Open Position,0,0
IWH,Map Image Width/Height,2500,1395
