OziExplorer Map Data File Version 2.2
Port Stephens
sn20-2.png
1 ,Map Code,
Pulkovo 1942 (1),, 0.0000, 0.0000,WGS 84
Reserved 1
Reserved 2
Magnetic Variation,,,E
Map Projection,Latitude/Longitude,PolyCal,Yes,AutoCalOnly,No,BSBUseWPX,No
Point01,xy, 79, 165,in, deg, 52, 0.0000,S, 63, 0.0000,W, grid, , , ,
Point02,xy, 1698, 156,in, deg, 52, 0.0000,S, 61, 30.0000,W, grid, , , ,
Point03,xy, 3316, 180,in, deg, 52, 0.0000,S, 60, 0.0000,W, grid, , , ,
Point04,xy, 110, 1921,in, deg, 53, 0.0000,S, 63, 0.0000,W, grid, , , ,
Point05,xy, 1695, 1913,in, deg, 53, 0.0000,S, 61, 30.0000,W, grid, , , ,
Point06,xy, 3276, 1934,in, deg, 53, 0.0000,S, 60, 0.0000,W, grid, , , ,
Point07,xy, 142, 3675,in, deg, 54, 0.0000,S, 63, 0.0000,W, grid, , , ,
Point08,xy, 1692, 3667,in, deg, 54, 0.0000,S, 61, 30.0000,W, grid, , , ,
Point09,xy, 3237, 3687,in, deg, 54, 0.0000,S, 60, 0.0000,W, grid, , , ,
Point10,xy, , ,in, deg, , ,, , ,, grid, , , ,
Point11,xy, , ,in, deg, , ,, , ,, grid, , , ,
Point12,xy, , ,in, deg, , ,, , ,, grid, , , ,
Point13,xy, , ,in, deg, , ,, , ,, grid, , , ,
Point14,xy, , ,in, deg, , ,, , ,, grid, , , ,
Point15,xy, , ,in, deg, , ,, , ,, grid, , , ,
Point16,xy, , ,in, deg, , ,, , ,, grid, , , ,
Point17,xy, , ,in, deg, , ,, , ,, grid, , , ,
Point18,xy, , ,in, deg, , ,, , ,, grid, , , ,
Point19,xy, , ,in, deg, , ,, , ,, grid, , , ,
Point20,xy, , ,in, deg, , ,, , ,, grid, , , ,
Point21,xy, , ,in, deg, , ,, , ,, grid, , , ,
Point22,xy, , ,in, deg, , ,, , ,, grid, , , ,
Point23,xy, , ,in, deg, , ,, , ,, grid, , , ,
Point24,xy, , ,in, deg, , ,, , ,, grid, , , ,
Point25,xy, , ,in, deg, , ,, , ,, grid, , , ,
Point26,xy, , ,in, deg, , ,, , ,, grid, , , ,
Point27,xy, , ,in, deg, , ,, , ,, grid, , , ,
Point28,xy, , ,in, deg, , ,, , ,, grid, , , ,
Point29,xy, , ,in, deg, , ,, , ,, grid, , , ,
Point30,xy, , ,in, deg, , ,, , ,, grid, , , ,
Projection Setup,,,,,,,,,,
Map Feature = MF ; Map Comment = MC These follow if they exist
Track File = TF These follow if they exist
Moving Map Parameters = MM? These follow if they exist
MM0,Yes
MMPNUM,4
MMPXY,1,0,0
MMPXY,2,3509,1
MMPXY,3,3416,3774
MMPXY,4,0,3761
MMPLL,1, -63.069845, -51.905739
MMPLL,2, -59.824638, -51.895784
MMPLL,3, -59.824420, -54.047004
MMPLL,4, -63.139245, -54.047460
MM1B,63.483639
MOP,Map Open Position,0,0
IWH,Map Image Width/Height,2500,1395
