OziExplorer Map Data File Version 2.2
Ushaia
H:\map\pulkovo1942\500k\_n19\sn19-4.png
1 ,Map Code,
Pulkovo 1942 (1),, 0.0000, 0.0000,WGS 84
Reserved 1
Reserved 2
Magnetic Variation,,,E
Map Projection,Latitude/Longitude,PolyCal,Yes,AutoCalOnly,No,BSBUseWPX,No
Point01,xy, 84, 186,in, deg, 54, 0.0000,S, 69, 0.0000,W, grid, , , ,N
Point02,xy, 1630, 170,in, deg, 54, 0.0000,S, 67, 30.0000,W, grid, , , ,N
Point03,xy, 3174, 185,in, deg, 54, 0.0000,S, 66, 0.0000,W, grid, , , ,N
Point04,xy, 127, 1941,in, deg, 55, 0.0000,S, 69, 0.0000,W, grid, , , ,N
Point05,xy, 1636, 1926,in, deg, 55, 0.0000,S, 67, 30.0000,W, grid, , , ,N
Point06,xy, 3142, 1939,in, deg, 55, 0.0000,S, 66, 0.0000,W, grid, , , ,N
Point07,xy, 171, 3692,in, deg, 56, 0.0000,S, 69, 0.0000,W, grid, , , ,N
Point08,xy, 1643, 3675,in, deg, 56, 0.0000,S, 67, 30.0000,W, grid, , , ,N
Point09,xy, 3113, 3687,in, deg, 56, 0.0000,S, 66, 0.0000,W, grid, , , ,N
Point10,xy, , ,in, deg, , ,N, , ,W, grid, , , ,N
Point11,xy, , ,in, deg, , ,N, , ,W, grid, , , ,N
Point12,xy, , ,in, deg, , ,N, , ,W, grid, , , ,N
Point13,xy, , ,in, deg, , ,N, , ,W, grid, , , ,N
Point14,xy, , ,in, deg, , ,N, , ,W, grid, , , ,N
Point15,xy, , ,in, deg, , ,N, , ,W, grid, , , ,N
Point16,xy, , ,in, deg, , ,N, , ,W, grid, , , ,N
Point17,xy, , ,in, deg, , ,N, , ,W, grid, , , ,N
Point18,xy, , ,in, deg, , ,N, , ,W, grid, , , ,N
Point19,xy, , ,in, deg, , ,N, , ,W, grid, , , ,N
Point20,xy, , ,in, deg, , ,N, , ,W, grid, , , ,N
Point21,xy, , ,in, deg, , ,N, , ,W, grid, , , ,N
Point22,xy, , ,in, deg, , ,N, , ,W, grid, , , ,N
Point23,xy, , ,in, deg, , ,N, , ,W, grid, , , ,N
Point24,xy, , ,in, deg, , ,N, , ,W, grid, , , ,N
Point25,xy, , ,in, deg, , ,N, , ,W, grid, , , ,N
Point26,xy, , ,in, deg, , ,N, , ,W, grid, , , ,N
Point27,xy, , ,in, deg, , ,N, , ,W, grid, , , ,N
Point28,xy, , ,in, deg, , ,N, , ,W, grid, , , ,N
Point29,xy, , ,in, deg, , ,N, , ,W, grid, , , ,N
Point30,xy, , ,in, deg, , ,N, , ,W, grid, , , ,N
Projection Setup,,,,,,,,,,
Map Feature = MF ; Map Comment = MC These follow if they exist
Track File = TF These follow if they exist
Moving Map Parameters = MM? These follow if they exist
MM0,Yes
MMPNUM,4
MMPXY,1,0,2
MMPXY,2,3251,1
MMPXY,3,3250,3768
MMPXY,4,0,3768
MMPLL,1, -69.077092, -53.894769
MMPLL,2, -65.928391, -53.894537
MMPLL,3, -65.858347, -56.044748
MMPLL,4, -69.176297, -56.041309
MM1B,63.696708
MOP,Map Open Position,0,0
IWH,Map Image Width/Height,3251,3768
