OziExplorer Map Data File Version 2.2
Cord.Darwin
sn19-3.png
1 ,Map Code,
Pulkovo 1942 (1),, 0.0000, 0.0000,WGS 84
Reserved 1
Reserved 2
Magnetic Variation,,,E
Map Projection,Latitude/Longitude,PolyCal,Yes,AutoCalOnly,No,BSBUseWPX,No
Point01,xy, 76, 168,in, deg, 54, 0.0000,S, 72, 0.0000,W, grid, , , ,
Point02,xy, 1625, 156,in, deg, 54, 0.0000,S, 70, 30.0000,W, grid, , , ,
Point03,xy, 3166, 176,in, deg, 54, 0.0000,S, 69, 0.0000,W, grid, , , ,
Point04,xy, 113, 1926,in, deg, 55, 0.0000,S, 72, 0.0000,W, grid, , , ,
Point05,xy, 1626, 1913,in, deg, 55, 0.0000,S, 70, 30.0000,W, grid, , , ,
Point06,xy, 3130, 1932,in, deg, 55, 0.0000,S, 69, 0.0000,W, grid, , , ,
Point07,xy, 150, 3683,in, deg, 56, 0.0000,S, 72, 0.0000,W, grid, , , ,
Point08,xy, 1623, 3669,in, deg, 56, 0.0000,S, 70, 30.0000,W, grid, , , ,
Point09,xy, 3092, 3689,in, deg, 56, 0.0000,S, 69, 0.0000,W, grid, , , ,
Point10,xy, , ,in, deg, , ,, , ,, grid, , , ,
Point11,xy, , ,in, deg, , ,, , ,, grid, , , ,
Point12,xy, , ,in, deg, , ,, , ,, grid, , , ,
Point13,xy, , ,in, deg, , ,, , ,, grid, , , ,
Point14,xy, , ,in, deg, , ,, , ,, grid, , , ,
Point15,xy, , ,in, deg, , ,, , ,, grid, , , ,
Point16,xy, , ,in, deg, , ,, , ,, grid, , , ,
Point17,xy, , ,in, deg, , ,, , ,, grid, , , ,
Point18,xy, , ,in, deg, , ,, , ,, grid, , , ,
Point19,xy, , ,in, deg, , ,, , ,, grid, , , ,
Point20,xy, , ,in, deg, , ,, , ,, grid, , , ,
Point21,xy, , ,in, deg, , ,, , ,, grid, , , ,
Point22,xy, , ,in, deg, , ,, , ,, grid, , , ,
Point23,xy, , ,in, deg, , ,, , ,, grid, , , ,
Point24,xy, , ,in, deg, , ,, , ,, grid, , , ,
Point25,xy, , ,in, deg, , ,, , ,, grid, , , ,
Point26,xy, , ,in, deg, , ,, , ,, grid, , , ,
Point27,xy, , ,in, deg, , ,, , ,, grid, , , ,
Point28,xy, , ,in, deg, , ,, , ,, grid, , , ,
Point29,xy, , ,in, deg, , ,, , ,, grid, , , ,
Point30,xy, , ,in, deg, , ,, , ,, grid, , , ,
Projection Setup,,,,,,,,,,
Map Feature = MF ; Map Comment = MC These follow if they exist
Track File = TF These follow if they exist
Moving Map Parameters = MM? These follow if they exist
MM0,Yes
MMPNUM,4
MMPXY,1,0,0
MMPXY,2,3334,2
MMPXY,3,3245,3773
MMPXY,4,0,3767
MMPLL,1, -72.069663, -53.903480
MMPLL,2, -68.840324, -53.898661
MMPLL,3, -68.840840, -56.045810
MMPLL,4, -72.153296, -56.046007
MM1B,63.388040
MOP,Map Open Position,0,0
IWH,Map Image Width/Height,2500,1395
