OziExplorer Map Data File Version 2.2
Rio Grande
sn19-2.png
1 ,Map Code,
Pulkovo 1942 (1),, 0.0000, 0.0000,WGS 84
Reserved 1
Reserved 2
Magnetic Variation,,,E
Map Projection,Latitude/Longitude,PolyCal,Yes,AutoCalOnly,No,BSBUseWPX,No
Point01,xy, 103, 184,in, deg, 52, 0.0000,S, 69, 0.0000,W, grid, , , ,
Point02,xy, 1723, 172,in, deg, 52, 0.0000,S, 67, 30.0000,W, grid, , , ,
Point03,xy, 3336, 189,in, deg, 52, 0.0000,S, 66, 0.0000,W, grid, , , ,
Point04,xy, 141, 1936,in, deg, 53, 0.0000,S, 69, 0.0000,W, grid, , , ,
Point05,xy, 1725, 1925,in, deg, 53, 0.0000,S, 67, 30.0000,W, grid, , , ,
Point06,xy, 3300, 1942,in, deg, 53, 0.0000,S, 66, 0.0000,W, grid, , , ,
Point07,xy, 176, 3685,in, deg, 54, 0.0000,S, 69, 0.0000,W, grid, , , ,
Point08,xy, 1725, 3677,in, deg, 54, 0.0000,S, 67, 30.0000,W, grid, , , ,
Point09,xy, 3264, 3694,in, deg, 54, 0.0000,S, 66, 0.0000,W, grid, , , ,
Point10,xy, , ,in, deg, , ,, , ,, grid, , , ,
Point11,xy, , ,in, deg, , ,, , ,, grid, , , ,
Point12,xy, , ,in, deg, , ,, , ,, grid, , , ,
Point13,xy, , ,in, deg, , ,, , ,, grid, , , ,
Point14,xy, , ,in, deg, , ,, , ,, grid, , , ,
Point15,xy, , ,in, deg, , ,, , ,, grid, , , ,
Point16,xy, , ,in, deg, , ,, , ,, grid, , , ,
Point17,xy, , ,in, deg, , ,, , ,, grid, , , ,
Point18,xy, , ,in, deg, , ,, , ,, grid, , , ,
Point19,xy, , ,in, deg, , ,, , ,, grid, , , ,
Point20,xy, , ,in, deg, , ,, , ,, grid, , , ,
Point21,xy, , ,in, deg, , ,, , ,, grid, , , ,
Point22,xy, , ,in, deg, , ,, , ,, grid, , , ,
Point23,xy, , ,in, deg, , ,, , ,, grid, , , ,
Point24,xy, , ,in, deg, , ,, , ,, grid, , , ,
Point25,xy, , ,in, deg, , ,, , ,, grid, , , ,
Point26,xy, , ,in, deg, , ,, , ,, grid, , , ,
Point27,xy, , ,in, deg, , ,, , ,, grid, , , ,
Point28,xy, , ,in, deg, , ,, , ,, grid, , , ,
Point29,xy, , ,in, deg, , ,, , ,, grid, , , ,
Point30,xy, , ,in, deg, , ,, , ,, grid, , , ,
Projection Setup,,,,,,,,,,
Map Feature = MF ; Map Comment = MC These follow if they exist
Track File = TF These follow if they exist
Moving Map Parameters = MM? These follow if they exist
MM0,Yes
MMPNUM,4
MMPXY,1,0,0
MMPXY,2,3497,1
MMPXY,3,3413,3777
MMPXY,4,1,3768
MMPLL,1, -69.091066, -51.894177
MMPLL,2, -65.853047, -51.891380
MMPLL,3, -65.852516, -54.045416
MMPLL,4, -69.171218, -54.045535
MM1B,63.352684
MOP,Map Open Position,0,0
IWH,Map Image Width/Height,2500,1395
