OziExplorer Map Data File Version 2.2
Punta Arenas
sn19-1.png
1 ,Map Code,
Pulkovo 1942 (1),, 0.0000, 0.0000,WGS 84
Reserved 1
Reserved 2
Magnetic Variation,,,E
Map Projection,Latitude/Longitude,PolyCal,Yes,AutoCalOnly,No,BSBUseWPX,No
Point01,xy, 74, 175,in, deg, 52, 0.0000,S, 72, 0.0000,W, grid, , , ,
Point02,xy, 1701, 155,in, deg, 52, 0.0000,S, 70, 30.0000,W, grid, , , ,
Point03,xy, 3317, 166,in, deg, 52, 0.0000,S, 69, 0.0000,W, grid, , , ,
Point04,xy, 122, 1935,in, deg, 53, 0.0000,S, 72, 0.0000,W, grid, , , ,
Point05,xy, 1709, 1914,in, deg, 53, 0.0000,S, 70, 30.0000,W, grid, , , ,
Point06,xy, 3290, 1926,in, deg, 53, 0.0000,S, 69, 0.0000,W, grid, , , ,
Point07,xy, 167, 3693,in, deg, 54, 0.0000,S, 72, 0.0000,W, grid, , , ,
Point08,xy, 1718, 3670,in, deg, 54, 0.0000,S, 70, 30.0000,W, grid, , , ,
Point09,xy, 3262, 3679,in, deg, 54, 0.0000,S, 69, 0.0000,W, grid, , , ,
Point10,xy, , ,in, deg, , ,, , ,, grid, , , ,
Point11,xy, , ,in, deg, , ,, , ,, grid, , , ,
Point12,xy, , ,in, deg, , ,, , ,, grid, , , ,
Point13,xy, , ,in, deg, , ,, , ,, grid, , , ,
Point14,xy, , ,in, deg, , ,, , ,, grid, , , ,
Point15,xy, , ,in, deg, , ,, , ,, grid, , , ,
Point16,xy, , ,in, deg, , ,, , ,, grid, , , ,
Point17,xy, , ,in, deg, , ,, , ,, grid, , , ,
Point18,xy, , ,in, deg, , ,, , ,, grid, , , ,
Point19,xy, , ,in, deg, , ,, , ,, grid, , , ,
Point20,xy, , ,in, deg, , ,, , ,, grid, , , ,
Point21,xy, , ,in, deg, , ,, , ,, grid, , , ,
Point22,xy, , ,in, deg, , ,, , ,, grid, , , ,
Point23,xy, , ,in, deg, , ,, , ,, grid, , , ,
Point24,xy, , ,in, deg, , ,, , ,, grid, , , ,
Point25,xy, , ,in, deg, , ,, , ,, grid, , , ,
Point26,xy, , ,in, deg, , ,, , ,, grid, , , ,
Point27,xy, , ,in, deg, , ,, , ,, grid, , , ,
Point28,xy, , ,in, deg, , ,, , ,, grid, , , ,
Point29,xy, , ,in, deg, , ,, , ,, grid, , , ,
Point30,xy, , ,in, deg, , ,, , ,, grid, , , ,
Projection Setup,,,,,,,,,,
Map Feature = MF ; Map Comment = MC These follow if they exist
Track File = TF These follow if they exist
Moving Map Parameters = MM? These follow if they exist
MM0,Yes
MMPNUM,4
MMPXY,1,0,2
MMPXY,2,3455,0
MMPXY,3,3389,3764
MMPXY,4,0,3779
MMPLL,1, -72.064291, -51.901128
MMPLL,2, -68.874644, -51.903989
MMPLL,3, -68.874429, -54.046995
MMPLL,4, -72.163231, -54.046741
MM1B,63.225782
MOP,Map Open Position,0,0
IWH,Map Image Width/Height,2500,1395
