OziExplorer Map Data File Version 2.2
Grafton
sn18-4.png
1 ,Map Code,
Pulkovo 1942 (1),, 0.0000, 0.0000,WGS 84
Reserved 1
Reserved 2
Magnetic Variation,,,E
Map Projection,Latitude/Longitude,PolyCal,Yes,AutoCalOnly,No,BSBUseWPX,No
Point01,xy, 87, 146,in, deg, 54, 0.0000,S, 75, 0.0000,W, grid, , , ,
Point02,xy, 1632, 138,in, deg, 54, 0.0000,S, 73, 30.0000,W, grid, , , ,
Point03,xy, 3177, 156,in, deg, 54, 0.0000,S, 72, 0.0000,W, grid, , , ,
Point04,xy, 122, 1905,in, deg, 55, 0.0000,S, 75, 0.0000,W, grid, , , ,
Point05,xy, 1632, 1896,in, deg, 55, 0.0000,S, 73, 30.0000,W, grid, , , ,
Point06,xy, 3138, 1919,in, deg, 55, 0.0000,S, 72, 0.0000,W, grid, , , ,
Point07,xy, 156, 3660,in, deg, 56, 0.0000,S, 75, 0.0000,W, grid, , , ,
Point08,xy, 1628, 3652,in, deg, 56, 0.0000,S, 73, 30.0000,W, grid, , , ,
Point09,xy, 3096, 3673,in, deg, 56, 0.0000,S, 72, 0.0000,W, grid, , , ,
Point10,xy, , ,in, deg, , ,, , ,, grid, , , ,
Point11,xy, , ,in, deg, , ,, , ,, grid, , , ,
Point12,xy, , ,in, deg, , ,, , ,, grid, , , ,
Point13,xy, , ,in, deg, , ,, , ,, grid, , , ,
Point14,xy, , ,in, deg, , ,, , ,, grid, , , ,
Point15,xy, , ,in, deg, , ,, , ,, grid, , , ,
Point16,xy, , ,in, deg, , ,, , ,, grid, , , ,
Point17,xy, , ,in, deg, , ,, , ,, grid, , , ,
Point18,xy, , ,in, deg, , ,, , ,, grid, , , ,
Point19,xy, , ,in, deg, , ,, , ,, grid, , , ,
Point20,xy, , ,in, deg, , ,, , ,, grid, , , ,
Point21,xy, , ,in, deg, , ,, , ,, grid, , , ,
Point22,xy, , ,in, deg, , ,, , ,, grid, , , ,
Point23,xy, , ,in, deg, , ,, , ,, grid, , , ,
Point24,xy, , ,in, deg, , ,, , ,, grid, , , ,
Point25,xy, , ,in, deg, , ,, , ,, grid, , , ,
Point26,xy, , ,in, deg, , ,, , ,, grid, , , ,
Point27,xy, , ,in, deg, , ,, , ,, grid, , , ,
Point28,xy, , ,in, deg, , ,, , ,, grid, , , ,
Point29,xy, , ,in, deg, , ,, , ,, grid, , , ,
Point30,xy, , ,in, deg, , ,, , ,, grid, , , ,
Projection Setup,,,,,,,,,,
Map Feature = MF ; Map Comment = MC These follow if they exist
Track File = TF These follow if they exist
Moving Map Parameters = MM? These follow if they exist
MM0,Yes
MMPNUM,4
MMPXY,1,0,0
MMPXY,2,3350,4
MMPXY,3,3255,3763
MMPXY,4,0,3747
MMPLL,1, -75.080504, -53.916346
MMPLL,2, -71.835070, -53.911045
MMPLL,3, -71.835516, -56.048751
MMPLL,4, -75.160703, -56.048463
MM1B,63.504441
MOP,Map Open Position,0,0
IWH,Map Image Width/Height,2500,1395
