OziExplorer Map Data File Version 2.2
Santa Ines
sn18-2.png
1 ,Map Code,
Pulkovo 1942 (1),, 0.0000, 0.0000,WGS 84
Reserved 1
Reserved 2
Magnetic Variation,,,E
Map Projection,Latitude/Longitude,PolyCal,Yes,AutoCalOnly,No,BSBUseWPX,No
Point01,xy, 81, 148,in, deg, 52, 0.0000,S, 75, 0.0000,W, grid, , , ,
Point02,xy, 1704, 136,in, deg, 52, 0.0000,S, 73, 30.0000,W, grid, , , ,
Point03,xy, 3319, 149,in, deg, 52, 0.0000,S, 72, 0.0000,W, grid, , , ,
Point04,xy, 123, 1904,in, deg, 53, 0.0000,S, 75, 0.0000,W, grid, , , ,
Point05,xy, 1707, 1890,in, deg, 53, 0.0000,S, 73, 30.0000,W, grid, , , ,
Point06,xy, 3285, 1907,in, deg, 53, 0.0000,S, 72, 0.0000,W, grid, , , ,
Point07,xy, 160, 3658,in, deg, 54, 0.0000,S, 75, 0.0000,W, grid, , , ,
Point08,xy, 1709, 3644,in, deg, 54, 0.0000,S, 73, 30.0000,W, grid, , , ,
Point09,xy, 3252, 3658,in, deg, 54, 0.0000,S, 72, 0.0000,W, grid, , , ,
Point10,xy, , ,in, deg, , ,, , ,, grid, , , ,
Point11,xy, , ,in, deg, , ,, , ,, grid, , , ,
Point12,xy, , ,in, deg, , ,, , ,, grid, , , ,
Point13,xy, , ,in, deg, , ,, , ,, grid, , , ,
Point14,xy, , ,in, deg, , ,, , ,, grid, , , ,
Point15,xy, , ,in, deg, , ,, , ,, grid, , , ,
Point16,xy, , ,in, deg, , ,, , ,, grid, , , ,
Point17,xy, , ,in, deg, , ,, , ,, grid, , , ,
Point18,xy, , ,in, deg, , ,, , ,, grid, , , ,
Point19,xy, , ,in, deg, , ,, , ,, grid, , , ,
Point20,xy, , ,in, deg, , ,, , ,, grid, , , ,
Point21,xy, , ,in, deg, , ,, , ,, grid, , , ,
Point22,xy, , ,in, deg, , ,, , ,, grid, , , ,
Point23,xy, , ,in, deg, , ,, , ,, grid, , , ,
Point24,xy, , ,in, deg, , ,, , ,, grid, , , ,
Point25,xy, , ,in, deg, , ,, , ,, grid, , , ,
Point26,xy, , ,in, deg, , ,, , ,, grid, , , ,
Point27,xy, , ,in, deg, , ,, , ,, grid, , , ,
Point28,xy, , ,in, deg, , ,, , ,, grid, , , ,
Point29,xy, , ,in, deg, , ,, , ,, grid, , , ,
Point30,xy, , ,in, deg, , ,, , ,, grid, , , ,
Projection Setup,,,,,,,,,,
Map Feature = MF ; Map Comment = MC These follow if they exist
Track File = TF These follow if they exist
Moving Map Parameters = MM? These follow if they exist
MM0,Yes
MMPNUM,4
MMPXY,1,0,1
MMPXY,2,3475,3
MMPXY,3,3396,3746
MMPXY,4,0,3745
MMPLL,1, -75.072084, -51.915570
MMPLL,2, -71.857344, -51.914762
MMPLL,3, -71.857175, -54.048398
MMPLL,4, -75.156893, -54.048170
MM1B,63.342625
MOP,Map Open Position,0,0
IWH,Map Image Width/Height,2500,1395
