OziExplorer Map Data File Version 2.2
I.Contrieras
sn18-1.png
1 ,Map Code,
Pulkovo 1942 (1),, 0.0000, 0.0000,WGS 84
Reserved 1
Reserved 2
Magnetic Variation,,,E
Map Projection,Latitude/Longitude,PolyCal,Yes,AutoCalOnly,No,BSBUseWPX,No
Point01,xy, 69, 170,in, deg, 52, 0.0000,S, 78, 0.0000,W, grid, , , ,
Point02,xy, 1692, 157,in, deg, 52, 0.0000,S, 76, 30.0000,W, grid, , , ,
Point03,xy, 3308, 173,in, deg, 52, 0.0000,S, 75, 0.0000,W, grid, , , ,
Point04,xy, 112, 1931,in, deg, 53, 0.0000,S, 78, 0.0000,W, grid, , , ,
Point05,xy, 1696, 1914,in, deg, 53, 0.0000,S, 76, 30.0000,W, grid, , , ,
Point06,xy, 3275, 1930,in, deg, 53, 0.0000,S, 75, 0.0000,W, grid, , , ,
Point07,xy, 153, 3687,in, deg, 54, 0.0000,S, 78, 0.0000,W, grid, , , ,
Point08,xy, 1700, 3670,in, deg, 54, 0.0000,S, 76, 30.0000,W, grid, , , ,
Point09,xy, 3244, 3684,in, deg, 54, 0.0000,S, 75, 0.0000,W, grid, , , ,
Point10,xy, , ,in, deg, , ,, , ,, grid, , , ,
Point11,xy, , ,in, deg, , ,, , ,, grid, , , ,
Point12,xy, , ,in, deg, , ,, , ,, grid, , , ,
Point13,xy, , ,in, deg, , ,, , ,, grid, , , ,
Point14,xy, , ,in, deg, , ,, , ,, grid, , , ,
Point15,xy, , ,in, deg, , ,, , ,, grid, , , ,
Point16,xy, , ,in, deg, , ,, , ,, grid, , , ,
Point17,xy, , ,in, deg, , ,, , ,, grid, , , ,
Point18,xy, , ,in, deg, , ,, , ,, grid, , , ,
Point19,xy, , ,in, deg, , ,, , ,, grid, , , ,
Point20,xy, , ,in, deg, , ,, , ,, grid, , , ,
Point21,xy, , ,in, deg, , ,, , ,, grid, , , ,
Point22,xy, , ,in, deg, , ,, , ,, grid, , , ,
Point23,xy, , ,in, deg, , ,, , ,, grid, , , ,
Point24,xy, , ,in, deg, , ,, , ,, grid, , , ,
Point25,xy, , ,in, deg, , ,, , ,, grid, , , ,
Point26,xy, , ,in, deg, , ,, , ,, grid, , , ,
Point27,xy, , ,in, deg, , ,, , ,, grid, , , ,
Point28,xy, , ,in, deg, , ,, , ,, grid, , , ,
Point29,xy, , ,in, deg, , ,, , ,, grid, , , ,
Point30,xy, , ,in, deg, , ,, , ,, grid, , , ,
Projection Setup,,,,,,,,,,
Map Feature = MF ; Map Comment = MC These follow if they exist
Track File = TF These follow if they exist
Moving Map Parameters = MM? These follow if they exist
MM0,Yes
MMPNUM,4
MMPXY,1,0,0
MMPXY,2,3458,2
MMPXY,3,3382,3757
MMPXY,4,0,3761
MMPLL,1, -78.060452, -51.902516
MMPLL,2, -74.863875, -51.900913
MMPLL,3, -74.863532, -54.040163
MMPLL,4, -78.149786, -54.040114
MM1B,63.430181
MOP,Map Open Position,0,0
IWH,Map Image Width/Height,2500,1395
