OziExplorer Map Data File Version 2.2
Port Stanley
sm21-3.png
1 ,Map Code,
Pulkovo 1942 (1),, 0.0000, 0.0000,WGS 84
Reserved 1
Reserved 2
Magnetic Variation,,,E
Map Projection,Latitude/Longitude,PolyCal,Yes,AutoCalOnly,No,BSBUseWPX,No
Point01,xy, 77, 165,in, deg, 50, 0.0000,S, 60, 0.0000,W, grid, , , ,
Point02,xy, 1773, 148,in, deg, 50, 0.0000,S, 58, 30.0000,W, grid, , , ,
Point03,xy, 3464, 163,in, deg, 50, 0.0000,S, 57, 0.0000,W, grid, , , ,
Point04,xy, 121, 1920,in, deg, 51, 0.0000,S, 60, 0.0000,W, grid, , , ,
Point05,xy, 1778, 1902,in, deg, 51, 0.0000,S, 58, 30.0000,W, grid, , , ,
Point06,xy, 3434, 1919,in, deg, 51, 0.0000,S, 57, 0.0000,W, grid, , , ,
Point07,xy, 162, 3679,in, deg, 52, 0.0000,S, 60, 0.0000,W, grid, , , ,
Point08,xy, 1784, 3660,in, deg, 52, 0.0000,S, 58, 30.0000,W, grid, , , ,
Point09,xy, 3404, 3674,in, deg, 52, 0.0000,S, 57, 0.0000,W, grid, , , ,
Point10,xy, , ,in, deg, , ,, , ,, grid, , , ,
Point11,xy, , ,in, deg, , ,, , ,, grid, , , ,
Point12,xy, , ,in, deg, , ,, , ,, grid, , , ,
Point13,xy, , ,in, deg, , ,, , ,, grid, , , ,
Point14,xy, , ,in, deg, , ,, , ,, grid, , , ,
Point15,xy, , ,in, deg, , ,, , ,, grid, , , ,
Point16,xy, , ,in, deg, , ,, , ,, grid, , , ,
Point17,xy, , ,in, deg, , ,, , ,, grid, , , ,
Point18,xy, , ,in, deg, , ,, , ,, grid, , , ,
Point19,xy, , ,in, deg, , ,, , ,, grid, , , ,
Point20,xy, , ,in, deg, , ,, , ,, grid, , , ,
Point21,xy, , ,in, deg, , ,, , ,, grid, , , ,
Point22,xy, , ,in, deg, , ,, , ,, grid, , , ,
Point23,xy, , ,in, deg, , ,, , ,, grid, , , ,
Point24,xy, , ,in, deg, , ,, , ,, grid, , , ,
Point25,xy, , ,in, deg, , ,, , ,, grid, , , ,
Point26,xy, , ,in, deg, , ,, , ,, grid, , , ,
Point27,xy, , ,in, deg, , ,, , ,, grid, , , ,
Point28,xy, , ,in, deg, , ,, , ,, grid, , , ,
Point29,xy, , ,in, deg, , ,, , ,, grid, , , ,
Point30,xy, , ,in, deg, , ,, , ,, grid, , , ,
Projection Setup,,,,,,,,,,
Map Feature = MF ; Map Comment = MC These follow if they exist
Track File = TF These follow if they exist
Moving Map Parameters = MM? These follow if they exist
MM0,Yes
MMPNUM,4
MMPXY,1,0,2
MMPXY,2,3591,0
MMPXY,3,3521,3753
MMPXY,4,0,3758
MMPLL,1, -60.064981, -49.906352
MMPLL,2, -56.890141, -49.905228
MMPLL,3, -56.889847, -52.043319
MMPLL,4, -60.151597, -52.042976
MM1B,63.403604
MOP,Map Open Position,0,0
IWH,Map Image Width/Height,2500,1395
