OziExplorer Map Data File Version 2.2
Mt.Adam
sm20-4.png
1 ,Map Code,
Pulkovo 1942 (1),, 0.0000, 0.0000,WGS 84
Reserved 1
Reserved 2
Magnetic Variation,,,E
Map Projection,Latitude/Longitude,PolyCal,Yes,AutoCalOnly,No,BSBUseWPX,No
Point01,xy, 65, 214,in, deg, 50, 0.0000,S, 63, 0.0000,W, grid, , , ,
Point02,xy, 1756, 200,in, deg, 50, 0.0000,S, 61, 30.0000,W, grid, , , ,
Point03,xy, 3443, 222,in, deg, 50, 0.0000,S, 60, 0.0000,W, grid, , , ,
Point04,xy, 101, 1972,in, deg, 51, 0.0000,S, 63, 0.0000,W, grid, , , ,
Point05,xy, 1755, 1960,in, deg, 51, 0.0000,S, 61, 30.0000,W, grid, , , ,
Point06,xy, 3406, 1980,in, deg, 51, 0.0000,S, 60, 0.0000,W, grid, , , ,
Point07,xy, 137, 3730,in, deg, 52, 0.0000,S, 63, 0.0000,W, grid, , , ,
Point08,xy, 1755, 3719,in, deg, 52, 0.0000,S, 61, 30.0000,W, grid, , , ,
Point09,xy, 3371, 3737,in, deg, 52, 0.0000,S, 60, 0.0000,W, grid, , , ,
Point10,xy, , ,in, deg, , ,, , ,, grid, , , ,
Point11,xy, , ,in, deg, , ,, , ,, grid, , , ,
Point12,xy, , ,in, deg, , ,, , ,, grid, , , ,
Point13,xy, , ,in, deg, , ,, , ,, grid, , , ,
Point14,xy, , ,in, deg, , ,, , ,, grid, , , ,
Point15,xy, , ,in, deg, , ,, , ,, grid, , , ,
Point16,xy, , ,in, deg, , ,, , ,, grid, , , ,
Point17,xy, , ,in, deg, , ,, , ,, grid, , , ,
Point18,xy, , ,in, deg, , ,, , ,, grid, , , ,
Point19,xy, , ,in, deg, , ,, , ,, grid, , , ,
Point20,xy, , ,in, deg, , ,, , ,, grid, , , ,
Point21,xy, , ,in, deg, , ,, , ,, grid, , , ,
Point22,xy, , ,in, deg, , ,, , ,, grid, , , ,
Point23,xy, , ,in, deg, , ,, , ,, grid, , , ,
Point24,xy, , ,in, deg, , ,, , ,, grid, , , ,
Point25,xy, , ,in, deg, , ,, , ,, grid, , , ,
Point26,xy, , ,in, deg, , ,, , ,, grid, , , ,
Point27,xy, , ,in, deg, , ,, , ,, grid, , , ,
Point28,xy, , ,in, deg, , ,, , ,, grid, , , ,
Point29,xy, , ,in, deg, , ,, , ,, grid, , , ,
Point30,xy, , ,in, deg, , ,, , ,, grid, , , ,
Projection Setup,,,,,,,,,,
Map Feature = MF ; Map Comment = MC These follow if they exist
Track File = TF These follow if they exist
Moving Map Parameters = MM? These follow if they exist
MM0,Yes
MMPNUM,4
MMPXY,1,0,0
MMPXY,2,3589,1
MMPXY,3,3503,3825
MMPXY,4,0,3818
MMPLL,1, -63.054028, -49.878165
MMPLL,2, -59.874636, -49.872849
MMPLL,3, -59.875291, -52.047949
MMPLL,4, -63.128643, -52.048320
MM1B,63.520170
MOP,Map Open Position,0,0
IWH,Map Image Width/Height,2500,1395
