OziExplorer Map Data File Version 2.2
Santa Cruz
sm19-4.png
1 ,Map Code,
Pulkovo 1942 (1),, 0.0000, 0.0000,WGS 84
Reserved 1
Reserved 2
Magnetic Variation,,,E
Map Projection,Latitude/Longitude,PolyCal,Yes,AutoCalOnly,No,BSBUseWPX,No
Point01,xy, 69, 162,in, deg, 50, 0.0000,S, 69, 0.0000,W, grid, , , ,
Point02,xy, 1764, 150,in, deg, 50, 0.0000,S, 67, 30.0000,W, grid, , , ,
Point03,xy, 3452, 170,in, deg, 50, 0.0000,S, 66, 0.0000,W, grid, , , ,
Point04,xy, 106, 1917,in, deg, 51, 0.0000,S, 69, 0.0000,W, grid, , , ,
Point05,xy, 1762, 1905,in, deg, 51, 0.0000,S, 67, 30.0000,W, grid, , , ,
Point06,xy, 3412, 1925,in, deg, 51, 0.0000,S, 66, 0.0000,W, grid, , , ,
Point07,xy, 140, 3672,in, deg, 52, 0.0000,S, 69, 0.0000,W, grid, , , ,
Point08,xy, 1759, 3659,in, deg, 52, 0.0000,S, 67, 30.0000,W, grid, , , ,
Point09,xy, 3375, 3680,in, deg, 52, 0.0000,S, 66, 0.0000,W, grid, , , ,
Point10,xy, , ,in, deg, , ,, , ,, grid, , , ,
Point11,xy, , ,in, deg, , ,, , ,, grid, , , ,
Point12,xy, , ,in, deg, , ,, , ,, grid, , , ,
Point13,xy, , ,in, deg, , ,, , ,, grid, , , ,
Point14,xy, , ,in, deg, , ,, , ,, grid, , , ,
Point15,xy, , ,in, deg, , ,, , ,, grid, , , ,
Point16,xy, , ,in, deg, , ,, , ,, grid, , , ,
Point17,xy, , ,in, deg, , ,, , ,, grid, , , ,
Point18,xy, , ,in, deg, , ,, , ,, grid, , , ,
Point19,xy, , ,in, deg, , ,, , ,, grid, , , ,
Point20,xy, , ,in, deg, , ,, , ,, grid, , , ,
Point21,xy, , ,in, deg, , ,, , ,, grid, , , ,
Point22,xy, , ,in, deg, , ,, , ,, grid, , , ,
Point23,xy, , ,in, deg, , ,, , ,, grid, , , ,
Point24,xy, , ,in, deg, , ,, , ,, grid, , , ,
Point25,xy, , ,in, deg, , ,, , ,, grid, , , ,
Point26,xy, , ,in, deg, , ,, , ,, grid, , , ,
Point27,xy, , ,in, deg, , ,, , ,, grid, , , ,
Point28,xy, , ,in, deg, , ,, , ,, grid, , , ,
Point29,xy, , ,in, deg, , ,, , ,, grid, , , ,
Point30,xy, , ,in, deg, , ,, , ,, grid, , , ,
Projection Setup,,,,,,,,,,
Map Feature = MF ; Map Comment = MC These follow if they exist
Track File = TF These follow if they exist
Moving Map Parameters = MM? These follow if they exist
MM0,Yes
MMPNUM,4
MMPXY,1,0,0
MMPXY,2,3629,2
MMPXY,3,3537,3758
MMPXY,4,0,3749
MMPLL,1, -69.058659, -49.906985
MMPLL,2, -65.845960, -49.901977
MMPLL,3, -65.846677, -52.042351
MMPLL,4, -69.131024, -52.042516
MM1B,63.350058
MOP,Map Open Position,0,0
IWH,Map Image Width/Height,2500,1395
