OziExplorer Map Data File Version 2.2
Rio.Gallegos
sm19-3.png
1 ,Map Code,
Pulkovo 1942 (1),, 0.0000, 0.0000,WGS 84
Reserved 1
Reserved 2
Magnetic Variation,,,E
Map Projection,Latitude/Longitude,PolyCal,Yes,AutoCalOnly,No,BSBUseWPX,No
Point01,xy, 76, 160,in, deg, 50, 0.0000,S, 72, 0.0000,W, grid, , , ,
Point02,xy, 1768, 146,in, deg, 50, 0.0000,S, 70, 30.0000,W, grid, , , ,
Point03,xy, 3456, 160,in, deg, 50, 0.0000,S, 69, 0.0000,W, grid, , , ,
Point04,xy, 117, 1914,in, deg, 51, 0.0000,S, 72, 0.0000,W, grid, , , ,
Point05,xy, 1775, 1898,in, deg, 51, 0.0000,S, 70, 30.0000,W, grid, , , ,
Point06,xy, 3426, 1912,in, deg, 51, 0.0000,S, 69, 0.0000,W, grid, , , ,
Point07,xy, 158, 3668,in, deg, 52, 0.0000,S, 72, 0.0000,W, grid, , , ,
Point08,xy, 1781, 3654,in, deg, 52, 0.0000,S, 70, 30.0000,W, grid, , , ,
Point09,xy, 3397, 3662,in, deg, 52, 0.0000,S, 69, 0.0000,W, grid, , , ,
Point10,xy, , ,in, deg, , ,, , ,, grid, , , ,
Point11,xy, , ,in, deg, , ,, , ,, grid, , , ,
Point12,xy, , ,in, deg, , ,, , ,, grid, , , ,
Point13,xy, , ,in, deg, , ,, , ,, grid, , , ,
Point14,xy, , ,in, deg, , ,, , ,, grid, , , ,
Point15,xy, , ,in, deg, , ,, , ,, grid, , , ,
Point16,xy, , ,in, deg, , ,, , ,, grid, , , ,
Point17,xy, , ,in, deg, , ,, , ,, grid, , , ,
Point18,xy, , ,in, deg, , ,, , ,, grid, , , ,
Point19,xy, , ,in, deg, , ,, , ,, grid, , , ,
Point20,xy, , ,in, deg, , ,, , ,, grid, , , ,
Point21,xy, , ,in, deg, , ,, , ,, grid, , , ,
Point22,xy, , ,in, deg, , ,, , ,, grid, , , ,
Point23,xy, , ,in, deg, , ,, , ,, grid, , , ,
Point24,xy, , ,in, deg, , ,, , ,, grid, , , ,
Point25,xy, , ,in, deg, , ,, , ,, grid, , , ,
Point26,xy, , ,in, deg, , ,, , ,, grid, , , ,
Point27,xy, , ,in, deg, , ,, , ,, grid, , , ,
Point28,xy, , ,in, deg, , ,, , ,, grid, , , ,
Point29,xy, , ,in, deg, , ,, , ,, grid, , , ,
Point30,xy, , ,in, deg, , ,, , ,, grid, , , ,
Projection Setup,,,,,,,,,,
Map Feature = MF ; Map Comment = MC These follow if they exist
Track File = TF These follow if they exist
Moving Map Parameters = MM? These follow if they exist
MM0,Yes
MMPNUM,4
MMPXY,1,0,1
MMPXY,2,3609,1
MMPXY,3,3540,3740
MMPXY,4,1,3746
MMPLL,1, -72.063551, -49.908911
MMPLL,2, -68.865979, -49.907779
MMPLL,3, -68.865821, -52.042703
MMPLL,4, -72.146839, -52.042370
MM1B,63.412055
MOP,Map Open Position,0,0
IWH,Map Image Width/Height,2500,1395
