OziExplorer Map Data File Version 2.2
San Julian
sm19-2.png
1 ,Map Code,
Pulkovo 1942 (1),, 0.0000, 0.0000,WGS 84
Reserved 1
Reserved 2
Magnetic Variation,,,E
Map Projection,Latitude/Longitude,PolyCal,Yes,AutoCalOnly,No,BSBUseWPX,No
Point01,xy, 68, 185,in, deg, 48, 0.0000,S, 69, 0.0000,W, grid, , , ,
Point02,xy, 1829, 174,in, deg, 48, 0.0000,S, 67, 30.0000,W, grid, , , ,
Point03,xy, 3587, 193,in, deg, 48, 0.0000,S, 66, 0.0000,W, grid, , , ,
Point04,xy, 104, 1938,in, deg, 49, 0.0000,S, 69, 0.0000,W, grid, , , ,
Point05,xy, 1829, 1926,in, deg, 49, 0.0000,S, 67, 30.0000,W, grid, , , ,
Point06,xy, 3550, 1943,in, deg, 49, 0.0000,S, 66, 0.0000,W, grid, , , ,
Point07,xy, 139, 3689,in, deg, 50, 0.0000,S, 69, 0.0000,W, grid, , , ,
Point08,xy, 1830, 3674,in, deg, 50, 0.0000,S, 67, 30.0000,W, grid, , , ,
Point09,xy, 3516, 3692,in, deg, 50, 0.0000,S, 66, 0.0000,W, grid, , , ,
Point10,xy, , ,in, deg, , ,, , ,, grid, , , ,
Point11,xy, , ,in, deg, , ,, , ,, grid, , , ,
Point12,xy, , ,in, deg, , ,, , ,, grid, , , ,
Point13,xy, , ,in, deg, , ,, , ,, grid, , , ,
Point14,xy, , ,in, deg, , ,, , ,, grid, , , ,
Point15,xy, , ,in, deg, , ,, , ,, grid, , , ,
Point16,xy, , ,in, deg, , ,, , ,, grid, , , ,
Point17,xy, , ,in, deg, , ,, , ,, grid, , , ,
Point18,xy, , ,in, deg, , ,, , ,, grid, , , ,
Point19,xy, , ,in, deg, , ,, , ,, grid, , , ,
Point20,xy, , ,in, deg, , ,, , ,, grid, , , ,
Point21,xy, , ,in, deg, , ,, , ,, grid, , , ,
Point22,xy, , ,in, deg, , ,, , ,, grid, , , ,
Point23,xy, , ,in, deg, , ,, , ,, grid, , , ,
Point24,xy, , ,in, deg, , ,, , ,, grid, , , ,
Point25,xy, , ,in, deg, , ,, , ,, grid, , , ,
Point26,xy, , ,in, deg, , ,, , ,, grid, , , ,
Point27,xy, , ,in, deg, , ,, , ,, grid, , , ,
Point28,xy, , ,in, deg, , ,, , ,, grid, , , ,
Point29,xy, , ,in, deg, , ,, , ,, grid, , , ,
Point30,xy, , ,in, deg, , ,, , ,, grid, , , ,
Projection Setup,,,,,,,,,,
Map Feature = MF ; Map Comment = MC These follow if they exist
Track File = TF These follow if they exist
Moving Map Parameters = MM? These follow if they exist
MM0,Yes
MMPNUM,4
MMPXY,1,0,0
MMPXY,2,3740,2
MMPXY,3,3657,3772
MMPXY,4,1,3769
MMPLL,1, -69.054748, -47.893863
MMPLL,2, -65.872534, -47.889200
MMPLL,3, -65.872779, -50.044449
MMPLL,4, -69.124322, -50.044457
MM1B,63.441733
MOP,Map Open Position,0,0
IWH,Map Image Width/Height,2500,1395
