OziExplorer Map Data File Version 2.2
Rio.Chico
sm19-1.png
1 ,Map Code,
Pulkovo 1942 (1),, 0.0000, 0.0000,WGS 84
Reserved 1
Reserved 2
Magnetic Variation,,,E
Map Projection,Latitude/Longitude,PolyCal,Yes,AutoCalOnly,No,BSBUseWPX,No
Point01,xy, 64, 169,in, deg, 48, 0.0000,S, 72, 0.0000,W, grid, , , ,
Point02,xy, 1829, 156,in, deg, 48, 0.0000,S, 70, 30.0000,W, grid, , , ,
Point03,xy, 3586, 176,in, deg, 48, 0.0000,S, 69, 0.0000,W, grid, , , ,
Point04,xy, 100, 1926,in, deg, 49, 0.0000,S, 72, 0.0000,W, grid, , , ,
Point05,xy, 1828, 1912,in, deg, 49, 0.0000,S, 70, 30.0000,W, grid, , , ,
Point06,xy, 3550, 1932,in, deg, 49, 0.0000,S, 69, 0.0000,W, grid, , , ,
Point07,xy, 135, 3681,in, deg, 50, 0.0000,S, 72, 0.0000,W, grid, , , ,
Point08,xy, 1828, 3667,in, deg, 50, 0.0000,S, 70, 30.0000,W, grid, , , ,
Point09,xy, 3519, 3683,in, deg, 50, 0.0000,S, 69, 0.0000,W, grid, , , ,
Point10,xy, , ,in, deg, , ,, , ,, grid, , , ,
Point11,xy, , ,in, deg, , ,, , ,, grid, , , ,
Point12,xy, , ,in, deg, , ,, , ,, grid, , , ,
Point13,xy, , ,in, deg, , ,, , ,, grid, , , ,
Point14,xy, , ,in, deg, , ,, , ,, grid, , , ,
Point15,xy, , ,in, deg, , ,, , ,, grid, , , ,
Point16,xy, , ,in, deg, , ,, , ,, grid, , , ,
Point17,xy, , ,in, deg, , ,, , ,, grid, , , ,
Point18,xy, , ,in, deg, , ,, , ,, grid, , , ,
Point19,xy, , ,in, deg, , ,, , ,, grid, , , ,
Point20,xy, , ,in, deg, , ,, , ,, grid, , , ,
Point21,xy, , ,in, deg, , ,, , ,, grid, , , ,
Point22,xy, , ,in, deg, , ,, , ,, grid, , , ,
Point23,xy, , ,in, deg, , ,, , ,, grid, , , ,
Point24,xy, , ,in, deg, , ,, , ,, grid, , , ,
Point25,xy, , ,in, deg, , ,, , ,, grid, , , ,
Point26,xy, , ,in, deg, , ,, , ,, grid, , , ,
Point27,xy, , ,in, deg, , ,, , ,, grid, , , ,
Point28,xy, , ,in, deg, , ,, , ,, grid, , , ,
Point29,xy, , ,in, deg, , ,, , ,, grid, , , ,
Point30,xy, , ,in, deg, , ,, , ,, grid, , , ,
Projection Setup,,,,,,,,,,
Map Feature = MF ; Map Comment = MC These follow if they exist
Track File = TF These follow if they exist
Moving Map Parameters = MM? These follow if they exist
MM0,Yes
MMPNUM,4
MMPXY,1,0,0
MMPXY,2,3758,2
MMPXY,3,3677,3768
MMPXY,4,0,3765
MMPLL,1, -72.052342, -47.903554
MMPLL,2, -68.856314, -47.898804
MMPLL,3, -68.857019, -50.046270
MMPLL,4, -72.120894, -50.046333
MM1B,63.386313
MOP,Map Open Position,0,0
IWH,Map Image Width/Height,2500,1395
