OziExplorer Map Data File Version 2.2
Pto.Natales
sm18-4.png
1 ,Map Code,
Pulkovo 1942 (1),, 0.0000, 0.0000,WGS 84
Reserved 1
Reserved 2
Magnetic Variation,,,E
Map Projection,Latitude/Longitude,PolyCal,Yes,AutoCalOnly,No,BSBUseWPX,No
Point01,xy, 97, 157,in, deg, 50, 0.0000,S, 75, 0.0000,W, grid, , , ,
Point02,xy, 1790, 145,in, deg, 50, 0.0000,S, 73, 30.0000,W, grid, , , ,
Point03,xy, 3478, 165,in, deg, 50, 0.0000,S, 72, 0.0000,W, grid, , , ,
Point04,xy, 133, 1912,in, deg, 51, 0.0000,S, 75, 0.0000,W, grid, , , ,
Point05,xy, 1789, 1902,in, deg, 51, 0.0000,S, 73, 30.0000,W, grid, , , ,
Point06,xy, 3441, 1921,in, deg, 51, 0.0000,S, 72, 0.0000,W, grid, , , ,
Point07,xy, 166, 3665,in, deg, 52, 0.0000,S, 75, 0.0000,W, grid, , , ,
Point08,xy, 1788, 3655,in, deg, 52, 0.0000,S, 73, 30.0000,W, grid, , , ,
Point09,xy, 3405, 3674,in, deg, 52, 0.0000,S, 72, 0.0000,W, grid, , , ,
Point10,xy, , ,in, deg, , ,, , ,, grid, , , ,
Point11,xy, , ,in, deg, , ,, , ,, grid, , , ,
Point12,xy, , ,in, deg, , ,, , ,, grid, , , ,
Point13,xy, , ,in, deg, , ,, , ,, grid, , , ,
Point14,xy, , ,in, deg, , ,, , ,, grid, , , ,
Point15,xy, , ,in, deg, , ,, , ,, grid, , , ,
Point16,xy, , ,in, deg, , ,, , ,, grid, , , ,
Point17,xy, , ,in, deg, , ,, , ,, grid, , , ,
Point18,xy, , ,in, deg, , ,, , ,, grid, , , ,
Point19,xy, , ,in, deg, , ,, , ,, grid, , , ,
Point20,xy, , ,in, deg, , ,, , ,, grid, , , ,
Point21,xy, , ,in, deg, , ,, , ,, grid, , , ,
Point22,xy, , ,in, deg, , ,, , ,, grid, , , ,
Point23,xy, , ,in, deg, , ,, , ,, grid, , , ,
Point24,xy, , ,in, deg, , ,, , ,, grid, , , ,
Point25,xy, , ,in, deg, , ,, , ,, grid, , , ,
Point26,xy, , ,in, deg, , ,, , ,, grid, , , ,
Point27,xy, , ,in, deg, , ,, , ,, grid, , , ,
Point28,xy, , ,in, deg, , ,, , ,, grid, , , ,
Point29,xy, , ,in, deg, , ,, , ,, grid, , , ,
Point30,xy, , ,in, deg, , ,, , ,, grid, , , ,
Projection Setup,,,,,,,,,,
Map Feature = MF ; Map Comment = MC These follow if they exist
Track File = TF These follow if they exist
Moving Map Parameters = MM? These follow if they exist
MM0,Yes
MMPNUM,4
MMPXY,1,0,0
MMPXY,2,3642,1
MMPXY,3,3556,3772
MMPXY,4,1,3762
MMPLL,1, -75.083229, -49.910054
MMPLL,2, -71.857098, -49.904925
MMPLL,3, -71.857401, -52.053849
MMPLL,4, -75.154615, -52.053758
MM1B,63.409681
MOP,Map Open Position,0,0
IWH,Map Image Width/Height,2500,1395
