OziExplorer Map Data File Version 2.2
Madre de Dios
sm18-3.png
1 ,Map Code,
Pulkovo 1942 (1),, 0.0000, 0.0000,WGS 84
Reserved 1
Reserved 2
Magnetic Variation,,,E
Map Projection,Latitude/Longitude,PolyCal,Yes,AutoCalOnly,No,BSBUseWPX,No
Point01,xy, 69, 192,in, deg, 50, 0.0000,S, 78, 0.0000,W, grid, , , ,
Point02,xy, 1763, 177,in, deg, 50, 0.0000,S, 76, 30.0000,W, grid, , , ,
Point03,xy, 3452, 191,in, deg, 50, 0.0000,S, 75, 0.0000,W, grid, , , ,
Point04,xy, 109, 1948,in, deg, 51, 0.0000,S, 78, 0.0000,W, grid, , , ,
Point05,xy, 1766, 1934,in, deg, 51, 0.0000,S, 76, 30.0000,W, grid, , , ,
Point06,xy, 3419, 1947,in, deg, 51, 0.0000,S, 75, 0.0000,W, grid, , , ,
Point07,xy, 147, 3701,in, deg, 52, 0.0000,S, 78, 0.0000,W, grid, , , ,
Point08,xy, 1769, 3685,in, deg, 52, 0.0000,S, 76, 30.0000,W, grid, , , ,
Point09,xy, 3386, 3698,in, deg, 52, 0.0000,S, 75, 0.0000,W, grid, , , ,
Point10,xy, , ,in, deg, , ,, , ,, grid, , , ,
Point11,xy, , ,in, deg, , ,, , ,, grid, , , ,
Point12,xy, , ,in, deg, , ,, , ,, grid, , , ,
Point13,xy, , ,in, deg, , ,, , ,, grid, , , ,
Point14,xy, , ,in, deg, , ,, , ,, grid, , , ,
Point15,xy, , ,in, deg, , ,, , ,, grid, , , ,
Point16,xy, , ,in, deg, , ,, , ,, grid, , , ,
Point17,xy, , ,in, deg, , ,, , ,, grid, , , ,
Point18,xy, , ,in, deg, , ,, , ,, grid, , , ,
Point19,xy, , ,in, deg, , ,, , ,, grid, , , ,
Point20,xy, , ,in, deg, , ,, , ,, grid, , , ,
Point21,xy, , ,in, deg, , ,, , ,, grid, , , ,
Point22,xy, , ,in, deg, , ,, , ,, grid, , , ,
Point23,xy, , ,in, deg, , ,, , ,, grid, , , ,
Point24,xy, , ,in, deg, , ,, , ,, grid, , , ,
Point25,xy, , ,in, deg, , ,, , ,, grid, , , ,
Point26,xy, , ,in, deg, , ,, , ,, grid, , , ,
Point27,xy, , ,in, deg, , ,, , ,, grid, , , ,
Point28,xy, , ,in, deg, , ,, , ,, grid, , , ,
Point29,xy, , ,in, deg, , ,, , ,, grid, , , ,
Point30,xy, , ,in, deg, , ,, , ,, grid, , , ,
Projection Setup,,,,,,,,,,
Map Feature = MF ; Map Comment = MC These follow if they exist
Track File = TF These follow if they exist
Moving Map Parameters = MM? These follow if they exist
MM0,Yes
MMPNUM,4
MMPXY,1,0,1
MMPXY,2,3600,0
MMPXY,3,3522,3779
MMPXY,4,0,3782
MMPLL,1, -78.057259, -49.890966
MMPLL,2, -74.871727, -49.889925
MMPLL,3, -74.872005, -52.044913
MMPLL,4, -78.137687, -52.044826
MM1B,63.406144
MOP,Map Open Position,0,0
IWH,Map Image Width/Height,2500,1395
