OziExplorer Map Data File Version 2.2
Co.Piramide
sm18-2.png
1 ,Map Code,
Pulkovo 1942 (1),, 0.0000, 0.0000,WGS 84
Reserved 1
Reserved 2
Magnetic Variation,,,E
Map Projection,Latitude/Longitude,PolyCal,Yes,AutoCalOnly,No,BSBUseWPX,No
Point01,xy, 106, 167,in, deg, 48, 0.0000,S, 75, 0.0000,W, grid, , , ,
Point02,xy, 1870, 157,in, deg, 48, 0.0000,S, 73, 30.0000,W, grid, , , ,
Point03,xy, 3628, 180,in, deg, 48, 0.0000,S, 72, 0.0000,W, grid, , , ,
Point04,xy, 141, 1925,in, deg, 49, 0.0000,S, 75, 0.0000,W, grid, , , ,
Point05,xy, 1868, 1912,in, deg, 49, 0.0000,S, 73, 30.0000,W, grid, , , ,
Point06,xy, 3592, 1932,in, deg, 49, 0.0000,S, 72, 0.0000,W, grid, , , ,
Point07,xy, 173, 3675,in, deg, 50, 0.0000,S, 75, 0.0000,W, grid, , , ,
Point08,xy, 1868, 3666,in, deg, 50, 0.0000,S, 73, 30.0000,W, grid, , , ,
Point09,xy, 3556, 3685,in, deg, 50, 0.0000,S, 72, 0.0000,W, grid, , , ,
Point10,xy, , ,in, deg, , ,, , ,, grid, , , ,
Point11,xy, , ,in, deg, , ,, , ,, grid, , , ,
Point12,xy, , ,in, deg, , ,, , ,, grid, , , ,
Point13,xy, , ,in, deg, , ,, , ,, grid, , , ,
Point14,xy, , ,in, deg, , ,, , ,, grid, , , ,
Point15,xy, , ,in, deg, , ,, , ,, grid, , , ,
Point16,xy, , ,in, deg, , ,, , ,, grid, , , ,
Point17,xy, , ,in, deg, , ,, , ,, grid, , , ,
Point18,xy, , ,in, deg, , ,, , ,, grid, , , ,
Point19,xy, , ,in, deg, , ,, , ,, grid, , , ,
Point20,xy, , ,in, deg, , ,, , ,, grid, , , ,
Point21,xy, , ,in, deg, , ,, , ,, grid, , , ,
Point22,xy, , ,in, deg, , ,, , ,, grid, , , ,
Point23,xy, , ,in, deg, , ,, , ,, grid, , , ,
Point24,xy, , ,in, deg, , ,, , ,, grid, , , ,
Point25,xy, , ,in, deg, , ,, , ,, grid, , , ,
Point26,xy, , ,in, deg, , ,, , ,, grid, , , ,
Point27,xy, , ,in, deg, , ,, , ,, grid, , , ,
Point28,xy, , ,in, deg, , ,, , ,, grid, , , ,
Point29,xy, , ,in, deg, , ,, , ,, grid, , , ,
Point30,xy, , ,in, deg, , ,, , ,, grid, , , ,
Projection Setup,,,,,,,,,,
Map Feature = MF ; Map Comment = MC These follow if they exist
Track File = TF These follow if they exist
Moving Map Parameters = MM? These follow if they exist
MM0,Yes
MMPNUM,4
MMPXY,1,0,0
MMPXY,2,3792,0
MMPXY,3,3708,3766
MMPXY,4,1,3757
MMPLL,1, -75.087392, -47.903818
MMPLL,2, -71.863164, -47.896058
MMPLL,3, -71.863207, -50.044465
MMPLL,4, -75.153957, -50.044384
MM1B,63.337708
MOP,Map Open Position,0,0
IWH,Map Image Width/Height,2500,1395
