OziExplorer Map Data File Version 2.2
I. Campana
sm18-1.png
1 ,Map Code,
Pulkovo 1942 (1),, 0.0000, 0.0000,WGS 84
Reserved 1
Reserved 2
Magnetic Variation,,,E
Map Projection,Latitude/Longitude,PolyCal,Yes,AutoCalOnly,No,BSBUseWPX,No
Point01,xy, 76, 144,in, deg, 48, 0.0000,S, 78, 0.0000,W, grid, , , ,
Point02,xy, 1839, 133,in, deg, 48, 0.0000,S, 76, 30.0000,W, grid, , , ,
Point03,xy, 3592, 151,in, deg, 48, 0.0000,S, 75, 0.0000,W, grid, , , ,
Point04,xy, 114, 1895,in, deg, 49, 0.0000,S, 78, 0.0000,W, grid, , , ,
Point05,xy, 1840, 1884,in, deg, 49, 0.0000,S, 76, 30.0000,W, grid, , , ,
Point06,xy, 3559, 1909,in, deg, 49, 0.0000,S, 75, 0.0000,W, grid, , , ,
Point07,xy, 147, 3650,in, deg, 50, 0.0000,S, 78, 0.0000,W, grid, , , ,
Point08,xy, 1840, 3637,in, deg, 50, 0.0000,S, 76, 30.0000,W, grid, , , ,
Point09,xy, 3527, 3653,in, deg, 50, 0.0000,S, 75, 0.0000,W, grid, , , ,
Point10,xy, , ,in, deg, , ,, , ,, grid, , , ,
Point11,xy, , ,in, deg, , ,, , ,, grid, , , ,
Point12,xy, , ,in, deg, , ,, , ,, grid, , , ,
Point13,xy, , ,in, deg, , ,, , ,, grid, , , ,
Point14,xy, , ,in, deg, , ,, , ,, grid, , , ,
Point15,xy, , ,in, deg, , ,, , ,, grid, , , ,
Point16,xy, , ,in, deg, , ,, , ,, grid, , , ,
Point17,xy, , ,in, deg, , ,, , ,, grid, , , ,
Point18,xy, , ,in, deg, , ,, , ,, grid, , , ,
Point19,xy, , ,in, deg, , ,, , ,, grid, , , ,
Point20,xy, , ,in, deg, , ,, , ,, grid, , , ,
Point21,xy, , ,in, deg, , ,, , ,, grid, , , ,
Point22,xy, , ,in, deg, , ,, , ,, grid, , , ,
Point23,xy, , ,in, deg, , ,, , ,, grid, , , ,
Point24,xy, , ,in, deg, , ,, , ,, grid, , , ,
Point25,xy, , ,in, deg, , ,, , ,, grid, , , ,
Point26,xy, , ,in, deg, , ,, , ,, grid, , , ,
Point27,xy, , ,in, deg, , ,, , ,, grid, , , ,
Point28,xy, , ,in, deg, , ,, , ,, grid, , , ,
Point29,xy, , ,in, deg, , ,, , ,, grid, , , ,
Point30,xy, , ,in, deg, , ,, , ,, grid, , , ,
Projection Setup,,,,,,,,,,
Map Feature = MF ; Map Comment = MC These follow if they exist
Track File = TF These follow if they exist
Moving Map Parameters = MM? These follow if they exist
MM0,Yes
MMPNUM,4
MMPXY,1,0,0
MMPXY,2,3746,5
MMPXY,3,3670,3726
MMPXY,4,0,3720
MMPLL,1, -78.062662, -47.917977
MMPLL,2, -74.870381, -47.913813
MMPLL,3, -74.870440, -50.038914
MMPLL,4, -78.131354, -50.039140
MM1B,63.409981
MOP,Map Open Position,0,0
IWH,Map Image Width/Height,2500,1395
