OziExplorer Map Data File Version 2.2
Deseado
sl20-3.png
1 ,Map Code,
Pulkovo 1942 (1),, 0.0000, 0.0000,WGS 84
Reserved 1
Reserved 2
Magnetic Variation,,,E
Map Projection,Latitude/Longitude,PolyCal,Yes,AutoCalOnly,No,BSBUseWPX,No
Point01,xy, 121, 209,in, deg, 46, 0.0000,S, 66, 0.0000,W, grid, , , ,
Point02,xy, 1950, 198,in, deg, 46, 0.0000,S, 64, 30.0000,W, grid, , , ,
Point03,xy, 3774, 215,in, deg, 46, 0.0000,S, 63, 0.0000,W, grid, , , ,
Point04,xy, 159, 1966,in, deg, 47, 0.0000,S, 66, 0.0000,W, grid, , , ,
Point05,xy, 1956, 1952,in, deg, 47, 0.0000,S, 64, 30.0000,W, grid, , , ,
Point06,xy, 3743, 1969,in, deg, 47, 0.0000,S, 63, 0.0000,W, grid, , , ,
Point07,xy, 195, 3719,in, deg, 48, 0.0000,S, 66, 0.0000,W, grid, , , ,
Point08,xy, 1958, 3704,in, deg, 48, 0.0000,S, 64, 30.0000,W, grid, , , ,
Point09,xy, 3714, 3717,in, deg, 48, 0.0000,S, 63, 0.0000,W, grid, , , ,
Point10,xy, , ,in, deg, , ,, , ,, grid, , , ,
Point11,xy, , ,in, deg, , ,, , ,, grid, , , ,
Point12,xy, , ,in, deg, , ,, , ,, grid, , , ,
Point13,xy, , ,in, deg, , ,, , ,, grid, , , ,
Point14,xy, , ,in, deg, , ,, , ,, grid, , , ,
Point15,xy, , ,in, deg, , ,, , ,, grid, , , ,
Point16,xy, , ,in, deg, , ,, , ,, grid, , , ,
Point17,xy, , ,in, deg, , ,, , ,, grid, , , ,
Point18,xy, , ,in, deg, , ,, , ,, grid, , , ,
Point19,xy, , ,in, deg, , ,, , ,, grid, , , ,
Point20,xy, , ,in, deg, , ,, , ,, grid, , , ,
Point21,xy, , ,in, deg, , ,, , ,, grid, , , ,
Point22,xy, , ,in, deg, , ,, , ,, grid, , , ,
Point23,xy, , ,in, deg, , ,, , ,, grid, , , ,
Point24,xy, , ,in, deg, , ,, , ,, grid, , , ,
Point25,xy, , ,in, deg, , ,, , ,, grid, , , ,
Point26,xy, , ,in, deg, , ,, , ,, grid, , , ,
Point27,xy, , ,in, deg, , ,, , ,, grid, , , ,
Point28,xy, , ,in, deg, , ,, , ,, grid, , , ,
Point29,xy, , ,in, deg, , ,, , ,, grid, , , ,
Point30,xy, , ,in, deg, , ,, , ,, grid, , , ,
Projection Setup,,,,,,,,,,
Map Feature = MF ; Map Comment = MC These follow if they exist
Track File = TF These follow if they exist
Moving Map Parameters = MM? These follow if they exist
MM0,Yes
MMPNUM,4
MMPXY,1,0,0
MMPXY,2,3946,2
MMPXY,3,3867,4182
MMPXY,4,0,4186
MMPLL,1, -66.094946, -45.880244
MMPLL,2, -62.860735, -45.876674
MMPLL,3, -62.860831, -48.264522
MMPLL,4, -66.174666, -48.264654
MM1B,63.351055
MOP,Map Open Position,0,0
IWH,Map Image Width/Height,2500,1395
