OziExplorer Map Data File Version 2.2
Camarones
sl20-1.png
1 ,Map Code,
Pulkovo 1942 (1),, 0.0000, 0.0000,WGS 84
Reserved 1
Reserved 2
Magnetic Variation,,,E
Map Projection,Latitude/Longitude,PolyCal,Yes,AutoCalOnly,No,BSBUseWPX,No
Point01,xy, 116, 192,in, deg, 44, 0.0000,S, 66, 0.0000,W, grid, , , ,
Point02,xy, 2011, 178,in, deg, 44, 0.0000,S, 64, 30.0000,W, grid, , , ,
Point03,xy, 3896, 196,in, deg, 44, 0.0000,S, 63, 0.0000,W, grid, , , ,
Point04,xy, 151, 1944,in, deg, 45, 0.0000,S, 66, 0.0000,W, grid, , , ,
Point05,xy, 2013, 1930,in, deg, 45, 0.0000,S, 64, 30.0000,W, grid, , , ,
Point06,xy, 3865, 1946,in, deg, 45, 0.0000,S, 63, 0.0000,W, grid, , , ,
Point07,xy, 184, 3694,in, deg, 46, 0.0000,S, 66, 0.0000,W, grid, , , ,
Point08,xy, 2014, 3679,in, deg, 46, 0.0000,S, 64, 30.0000,W, grid, , , ,
Point09,xy, 3839, 3696,in, deg, 46, 0.0000,S, 63, 0.0000,W, grid, , , ,
Point10,xy, , ,in, deg, , ,, , ,, grid, , , ,
Point11,xy, , ,in, deg, , ,, , ,, grid, , , ,
Point12,xy, , ,in, deg, , ,, , ,, grid, , , ,
Point13,xy, , ,in, deg, , ,, , ,, grid, , , ,
Point14,xy, , ,in, deg, , ,, , ,, grid, , , ,
Point15,xy, , ,in, deg, , ,, , ,, grid, , , ,
Point16,xy, , ,in, deg, , ,, , ,, grid, , , ,
Point17,xy, , ,in, deg, , ,, , ,, grid, , , ,
Point18,xy, , ,in, deg, , ,, , ,, grid, , , ,
Point19,xy, , ,in, deg, , ,, , ,, grid, , , ,
Point20,xy, , ,in, deg, , ,, , ,, grid, , , ,
Point21,xy, , ,in, deg, , ,, , ,, grid, , , ,
Point22,xy, , ,in, deg, , ,, , ,, grid, , , ,
Point23,xy, , ,in, deg, , ,, , ,, grid, , , ,
Point24,xy, , ,in, deg, , ,, , ,, grid, , , ,
Point25,xy, , ,in, deg, , ,, , ,, grid, , , ,
Point26,xy, , ,in, deg, , ,, , ,, grid, , , ,
Point27,xy, , ,in, deg, , ,, , ,, grid, , , ,
Point28,xy, , ,in, deg, , ,, , ,, grid, , , ,
Point29,xy, , ,in, deg, , ,, , ,, grid, , , ,
Point30,xy, , ,in, deg, , ,, , ,, grid, , , ,
Projection Setup,,,,,,,,,,
Map Feature = MF ; Map Comment = MC These follow if they exist
Track File = TF These follow if they exist
Moving Map Parameters = MM? These follow if they exist
MM0,Yes
MMPNUM,4
MMPXY,1,0,0
MMPXY,2,4072,1
MMPXY,3,3996,4181
MMPXY,4,0,4180
MMPLL,1, -66.089320, -43.889394
MMPLL,2, -62.862310, -43.887026
MMPLL,3, -62.862477, -46.275848
MMPLL,4, -66.158863, -46.275869
MM1B,63.373184
MOP,Map Open Position,0,0
IWH,Map Image Width/Height,2500,1395
