OziExplorer Map Data File Version 2.2
CaletaOlivia
sl19-4.png
1 ,Map Code,
Pulkovo 1942 (1),, 0.0000, 0.0000,WGS 84
Reserved 1
Reserved 2
Magnetic Variation,,,E
Map Projection,Latitude/Longitude,PolyCal,Yes,AutoCalOnly,No,BSBUseWPX,No
Point01,xy, 105, 163,in, deg, 46, 0.0000,S, 69, 0.0000,W, grid, , , ,
Point02,xy, 1937, 153,in, deg, 46, 0.0000,S, 67, 30.0000,W, grid, , , ,
Point03,xy, 3763, 174,in, deg, 46, 0.0000,S, 66, 0.0000,W, grid, , , ,
Point04,xy, 139, 1917,in, deg, 47, 0.0000,S, 69, 0.0000,W, grid, , , ,
Point05,xy, 1936, 1909,in, deg, 47, 0.0000,S, 67, 30.0000,W, grid, , , ,
Point06,xy, 3730, 1927,in, deg, 47, 0.0000,S, 66, 0.0000,W, grid, , , ,
Point07,xy, 172, 3671,in, deg, 48, 0.0000,S, 69, 0.0000,W, grid, , , ,
Point08,xy, 1937, 3663,in, deg, 48, 0.0000,S, 67, 30.0000,W, grid, , , ,
Point09,xy, 3694, 3676,in, deg, 48, 0.0000,S, 66, 0.0000,W, grid, , , ,
Point10,xy, , ,in, deg, , ,, , ,, grid, , , ,
Point11,xy, , ,in, deg, , ,, , ,, grid, , , ,
Point12,xy, , ,in, deg, , ,, , ,, grid, , , ,
Point13,xy, , ,in, deg, , ,, , ,, grid, , , ,
Point14,xy, , ,in, deg, , ,, , ,, grid, , , ,
Point15,xy, , ,in, deg, , ,, , ,, grid, , , ,
Point16,xy, , ,in, deg, , ,, , ,, grid, , , ,
Point17,xy, , ,in, deg, , ,, , ,, grid, , , ,
Point18,xy, , ,in, deg, , ,, , ,, grid, , , ,
Point19,xy, , ,in, deg, , ,, , ,, grid, , , ,
Point20,xy, , ,in, deg, , ,, , ,, grid, , , ,
Point21,xy, , ,in, deg, , ,, , ,, grid, , , ,
Point22,xy, , ,in, deg, , ,, , ,, grid, , , ,
Point23,xy, , ,in, deg, , ,, , ,, grid, , , ,
Point24,xy, , ,in, deg, , ,, , ,, grid, , , ,
Point25,xy, , ,in, deg, , ,, , ,, grid, , , ,
Point26,xy, , ,in, deg, , ,, , ,, grid, , , ,
Point27,xy, , ,in, deg, , ,, , ,, grid, , , ,
Point28,xy, , ,in, deg, , ,, , ,, grid, , , ,
Point29,xy, , ,in, deg, , ,, , ,, grid, , , ,
Point30,xy, , ,in, deg, , ,, , ,, grid, , , ,
Projection Setup,,,,,,,,,,
Map Feature = MF ; Map Comment = MC These follow if they exist
Track File = TF These follow if they exist
Moving Map Parameters = MM? These follow if they exist
MM0,Yes
MMPNUM,4
MMPXY,1,0,0
MMPXY,2,3968,1
MMPXY,3,3876,4229
MMPXY,4,1,4224
MMPLL,1, -69.082993, -45.907235
MMPLL,2, -65.834611, -45.899549
MMPLL,3, -65.834524, -48.313542
MMPLL,4, -69.155038, -48.313787
MM1B,63.286307
MOP,Map Open Position,0,0
IWH,Map Image Width/Height,2500,1395
