OziExplorer Map Data File Version 2.2
L.BuenosAires
sl19-3.png
1 ,Map Code,
Pulkovo 1942 (1),, 0.0000, 0.0000,WGS 84
Reserved 1
Reserved 2
Magnetic Variation,,,E
Map Projection,Latitude/Longitude,PolyCal,Yes,AutoCalOnly,No,BSBUseWPX,No
Point01,xy, 109, 155,in, deg, 46, 0.0000,S, 72, 0.0000,W, grid, , , ,
Point02,xy, 1940, 159,in, deg, 46, 0.0000,S, 70, 30.0000,W, grid, , , ,
Point03,xy, 3764, 200,in, deg, 46, 0.0000,S, 69, 0.0000,W, grid, , , ,
Point04,xy, 128, 1903,in, deg, 47, 0.0000,S, 72, 0.0000,W, grid, , , ,
Point05,xy, 1925, 1912,in, deg, 47, 0.0000,S, 70, 30.0000,W, grid, , , ,
Point06,xy, 3715, 1948,in, deg, 47, 0.0000,S, 69, 0.0000,W, grid, , , ,
Point07,xy, 147, 3658,in, deg, 48, 0.0000,S, 72, 0.0000,W, grid, , , ,
Point08,xy, 1906, 3662,in, deg, 48, 0.0000,S, 70, 30.0000,W, grid, , , ,
Point09,xy, 3666, 3698,in, deg, 48, 0.0000,S, 69, 0.0000,W, grid, , , ,
Point10,xy, , ,in, deg, , ,, , ,, grid, , , ,
Point11,xy, , ,in, deg, , ,, , ,, grid, , , ,
Point12,xy, , ,in, deg, , ,, , ,, grid, , , ,
Point13,xy, , ,in, deg, , ,, , ,, grid, , , ,
Point14,xy, , ,in, deg, , ,, , ,, grid, , , ,
Point15,xy, , ,in, deg, , ,, , ,, grid, , , ,
Point16,xy, , ,in, deg, , ,, , ,, grid, , , ,
Point17,xy, , ,in, deg, , ,, , ,, grid, , , ,
Point18,xy, , ,in, deg, , ,, , ,, grid, , , ,
Point19,xy, , ,in, deg, , ,, , ,, grid, , , ,
Point20,xy, , ,in, deg, , ,, , ,, grid, , , ,
Point21,xy, , ,in, deg, , ,, , ,, grid, , , ,
Point22,xy, , ,in, deg, , ,, , ,, grid, , , ,
Point23,xy, , ,in, deg, , ,, , ,, grid, , , ,
Point24,xy, , ,in, deg, , ,, , ,, grid, , , ,
Point25,xy, , ,in, deg, , ,, , ,, grid, , , ,
Point26,xy, , ,in, deg, , ,, , ,, grid, , , ,
Point27,xy, , ,in, deg, , ,, , ,, grid, , , ,
Point28,xy, , ,in, deg, , ,, , ,, grid, , , ,
Point29,xy, , ,in, deg, , ,, , ,, grid, , , ,
Point30,xy, , ,in, deg, , ,, , ,, grid, , , ,
Projection Setup,,,,,,,,,,
Map Feature = MF ; Map Comment = MC These follow if they exist
Track File = TF These follow if they exist
Moving Map Parameters = MM? These follow if they exist
MM0,Yes
MMPNUM,4
MMPXY,1,0,0
MMPXY,2,3989,3
MMPXY,3,3856,4318
MMPXY,4,0,4273
MMPLL,1, -72.088044, -45.911801
MMPLL,2, -68.820234, -45.883585
MMPLL,3, -68.820292, -48.350005
MMPLL,4, -72.130114, -48.350149
MM1B,63.420090
MOP,Map Open Position,0,0
IWH,Map Image Width/Height,2500,1395
