OziExplorer Map Data File Version 2.2
ComodoroRivadavia
sl19-2.png
1 ,Map Code,
Pulkovo 1942 (1),, 0.0000, 0.0000,WGS 84
Reserved 1
Reserved 2
Magnetic Variation,,,E
Map Projection,Latitude/Longitude,PolyCal,Yes,AutoCalOnly,No,BSBUseWPX,No
Point01,xy, 93, 200,in, deg, 44, 0.0000,S, 69, 0.0000,W, grid, , , ,
Point02,xy, 1982, 187,in, deg, 44, 0.0000,S, 67, 30.0000,W, grid, , , ,
Point03,xy, 3875, 200,in, deg, 44, 0.0000,S, 66, 0.0000,W, grid, , , ,
Point04,xy, 128, 1953,in, deg, 45, 0.0000,S, 69, 0.0000,W, grid, , , ,
Point05,xy, 1989, 1941,in, deg, 45, 0.0000,S, 67, 30.0000,W, grid, , , ,
Point06,xy, 3844, 1957,in, deg, 45, 0.0000,S, 66, 0.0000,W, grid, , , ,
Point07,xy, 160, 3703,in, deg, 46, 0.0000,S, 69, 0.0000,W, grid, , , ,
Point08,xy, 1991, 3691,in, deg, 46, 0.0000,S, 67, 30.0000,W, grid, , , ,
Point09,xy, 3814, 3709,in, deg, 46, 0.0000,S, 66, 0.0000,W, grid, , , ,
Point10,xy, , ,in, deg, , ,, , ,, grid, , , ,
Point11,xy, , ,in, deg, , ,, , ,, grid, , , ,
Point12,xy, , ,in, deg, , ,, , ,, grid, , , ,
Point13,xy, , ,in, deg, , ,, , ,, grid, , , ,
Point14,xy, , ,in, deg, , ,, , ,, grid, , , ,
Point15,xy, , ,in, deg, , ,, , ,, grid, , , ,
Point16,xy, , ,in, deg, , ,, , ,, grid, , , ,
Point17,xy, , ,in, deg, , ,, , ,, grid, , , ,
Point18,xy, , ,in, deg, , ,, , ,, grid, , , ,
Point19,xy, , ,in, deg, , ,, , ,, grid, , , ,
Point20,xy, , ,in, deg, , ,, , ,, grid, , , ,
Point21,xy, , ,in, deg, , ,, , ,, grid, , , ,
Point22,xy, , ,in, deg, , ,, , ,, grid, , , ,
Point23,xy, , ,in, deg, , ,, , ,, grid, , , ,
Point24,xy, , ,in, deg, , ,, , ,, grid, , , ,
Point25,xy, , ,in, deg, , ,, , ,, grid, , , ,
Point26,xy, , ,in, deg, , ,, , ,, grid, , , ,
Point27,xy, , ,in, deg, , ,, , ,, grid, , , ,
Point28,xy, , ,in, deg, , ,, , ,, grid, , , ,
Point29,xy, , ,in, deg, , ,, , ,, grid, , , ,
Point30,xy, , ,in, deg, , ,, , ,, grid, , , ,
Projection Setup,,,,,,,,,,
Map Feature = MF ; Map Comment = MC These follow if they exist
Track File = TF These follow if they exist
Moving Map Parameters = MM? These follow if they exist
MM0,Yes
MMPNUM,4
MMPXY,1,0,2
MMPXY,2,4058,2
MMPXY,3,3979,4259
MMPXY,4,2,4251
MMPLL,1, -69.069487, -43.886354
MMPLL,2, -65.856047, -43.885512
MMPLL,3, -65.855538, -46.312648
MMPLL,4, -69.139320, -46.312685
MM1B,63.477220
MOP,Map Open Position,0,0
IWH,Map Image Width/Height,2500,1395
