OziExplorer Map Data File Version 2.2
Sarmiento
sl19-1.png
1 ,Map Code,
Pulkovo 1942 (1),, 0.0000, 0.0000,WGS 84
Reserved 1
Reserved 2
Magnetic Variation,,,E
Map Projection,Latitude/Longitude,PolyCal,Yes,AutoCalOnly,No,BSBUseWPX,No
Point01,xy, 117, 152,in, deg, 44, 0.0000,S, 72, 0.0000,W, grid, , , ,
Point02,xy, 2011, 137,in, deg, 44, 0.0000,S, 70, 30.0000,W, grid, , , ,
Point03,xy, 3900, 149,in, deg, 44, 0.0000,S, 69, 0.0000,W, grid, , , ,
Point04,xy, 156, 1906,in, deg, 45, 0.0000,S, 72, 0.0000,W, grid, , , ,
Point05,xy, 2019, 1889,in, deg, 45, 0.0000,S, 70, 30.0000,W, grid, , , ,
Point06,xy, 3874, 1905,in, deg, 45, 0.0000,S, 69, 0.0000,W, grid, , , ,
Point07,xy, 194, 3657,in, deg, 46, 0.0000,S, 72, 0.0000,W, grid, , , ,
Point08,xy, 2023, 3638,in, deg, 46, 0.0000,S, 70, 30.0000,W, grid, , , ,
Point09,xy, 3847, 3650,in, deg, 46, 0.0000,S, 69, 0.0000,W, grid, , , ,
Point10,xy, , ,in, deg, , ,, , ,, grid, , , ,
Point11,xy, , ,in, deg, , ,, , ,, grid, , , ,
Point12,xy, , ,in, deg, , ,, , ,, grid, , , ,
Point13,xy, , ,in, deg, , ,, , ,, grid, , , ,
Point14,xy, , ,in, deg, , ,, , ,, grid, , , ,
Point15,xy, , ,in, deg, , ,, , ,, grid, , , ,
Point16,xy, , ,in, deg, , ,, , ,, grid, , , ,
Point17,xy, , ,in, deg, , ,, , ,, grid, , , ,
Point18,xy, , ,in, deg, , ,, , ,, grid, , , ,
Point19,xy, , ,in, deg, , ,, , ,, grid, , , ,
Point20,xy, , ,in, deg, , ,, , ,, grid, , , ,
Point21,xy, , ,in, deg, , ,, , ,, grid, , , ,
Point22,xy, , ,in, deg, , ,, , ,, grid, , , ,
Point23,xy, , ,in, deg, , ,, , ,, grid, , , ,
Point24,xy, , ,in, deg, , ,, , ,, grid, , , ,
Point25,xy, , ,in, deg, , ,, , ,, grid, , , ,
Point26,xy, , ,in, deg, , ,, , ,, grid, , , ,
Point27,xy, , ,in, deg, , ,, , ,, grid, , , ,
Point28,xy, , ,in, deg, , ,, , ,, grid, , , ,
Point29,xy, , ,in, deg, , ,, , ,, grid, , , ,
Point30,xy, , ,in, deg, , ,, , ,, grid, , , ,
Projection Setup,,,,,,,,,,
Map Feature = MF ; Map Comment = MC These follow if they exist
Track File = TF These follow if they exist
Moving Map Parameters = MM? These follow if they exist
MM0,Yes
MMPNUM,4
MMPXY,1,0,2
MMPXY,2,4098,0
MMPXY,3,4024,4271
MMPXY,4,0,4278
MMPLL,1, -72.089448, -43.913658
MMPLL,2, -68.844255, -43.912613
MMPLL,3, -68.844594, -46.354157
MMPLL,4, -72.170172, -46.353928
MM1B,63.373320
MOP,Map Open Position,0,0
IWH,Map Image Width/Height,2500,1395
