OziExplorer Map Data File Version 2.2
SanValentin
sl18-4.png
1 ,Map Code,
Pulkovo 1942 (1),, 0.0000, 0.0000,WGS 84
Reserved 1
Reserved 2
Magnetic Variation,,,E
Map Projection,Latitude/Longitude,PolyCal,Yes,AutoCalOnly,No,BSBUseWPX,No
Point01,xy, 112, 195,in, deg, 46, 0.0000,S, 75, 0.0000,W, grid, , , ,
Point02,xy, 1942, 185,in, deg, 46, 0.0000,S, 73, 30.0000,W, grid, , , ,
Point03,xy, 3765, 203,in, deg, 46, 0.0000,S, 72, 0.0000,W, grid, , , ,
Point04,xy, 144, 1948,in, deg, 47, 0.0000,S, 75, 0.0000,W, grid, , , ,
Point05,xy, 1938, 1939,in, deg, 47, 0.0000,S, 73, 30.0000,W, grid, , , ,
Point06,xy, 3731, 1959,in, deg, 47, 0.0000,S, 72, 0.0000,W, grid, , , ,
Point07,xy, 175, 3701,in, deg, 48, 0.0000,S, 75, 0.0000,W, grid, , , ,
Point08,xy, 1936, 3690,in, deg, 48, 0.0000,S, 73, 30.0000,W, grid, , , ,
Point09,xy, 3693, 3712,in, deg, 48, 0.0000,S, 72, 0.0000,W, grid, , , ,
Point10,xy, , ,in, deg, , ,, , ,, grid, , , ,
Point11,xy, , ,in, deg, , ,, , ,, grid, , , ,
Point12,xy, , ,in, deg, , ,, , ,, grid, , , ,
Point13,xy, , ,in, deg, , ,, , ,, grid, , , ,
Point14,xy, , ,in, deg, , ,, , ,, grid, , , ,
Point15,xy, , ,in, deg, , ,, , ,, grid, , , ,
Point16,xy, , ,in, deg, , ,, , ,, grid, , , ,
Point17,xy, , ,in, deg, , ,, , ,, grid, , , ,
Point18,xy, , ,in, deg, , ,, , ,, grid, , , ,
Point19,xy, , ,in, deg, , ,, , ,, grid, , , ,
Point20,xy, , ,in, deg, , ,, , ,, grid, , , ,
Point21,xy, , ,in, deg, , ,, , ,, grid, , , ,
Point22,xy, , ,in, deg, , ,, , ,, grid, , , ,
Point23,xy, , ,in, deg, , ,, , ,, grid, , , ,
Point24,xy, , ,in, deg, , ,, , ,, grid, , , ,
Point25,xy, , ,in, deg, , ,, , ,, grid, , , ,
Point26,xy, , ,in, deg, , ,, , ,, grid, , , ,
Point27,xy, , ,in, deg, , ,, , ,, grid, , , ,
Point28,xy, , ,in, deg, , ,, , ,, grid, , , ,
Point29,xy, , ,in, deg, , ,, , ,, grid, , , ,
Point30,xy, , ,in, deg, , ,, , ,, grid, , , ,
Projection Setup,,,,,,,,,,
Map Feature = MF ; Map Comment = MC These follow if they exist
Track File = TF These follow if they exist
Moving Map Parameters = MM? These follow if they exist
MM0,Yes
MMPNUM,4
MMPXY,1,0,0
MMPXY,2,3955,3
MMPXY,3,3860,4196
MMPXY,4,0,4183
MMPLL,1, -75.088815, -45.887920
MMPLL,2, -71.847937, -45.883726
MMPLL,3, -71.847916, -48.274260
MMPLL,4, -75.156490, -48.274283
MM1B,63.423989
MOP,Map Open Position,0,0
IWH,Map Image Width/Height,2500,1395
