OziExplorer Map Data File Version 2.2
Tajtao
sl18-3.png
1 ,Map Code,
Pulkovo 1942 (1),, 0.0000, 0.0000,WGS 84
Reserved 1
Reserved 2
Magnetic Variation,,,E
Map Projection,Latitude/Longitude,PolyCal,Yes,AutoCalOnly,No,BSBUseWPX,No
Point01,xy, 89, 210,in, deg, 46, 0.0000,S, 78, 0.0000,W, grid, , , ,
Point02,xy, 1922, 198,in, deg, 46, 0.0000,S, 76, 30.0000,W, grid, , , ,
Point03,xy, 3746, 219,in, deg, 46, 0.0000,S, 75, 0.0000,W, grid, , , ,
Point04,xy, 124, 1968,in, deg, 47, 0.0000,S, 78, 0.0000,W, grid, , , ,
Point05,xy, 1921, 1955,in, deg, 47, 0.0000,S, 76, 30.0000,W, grid, , , ,
Point06,xy, 3713, 1971,in, deg, 47, 0.0000,S, 75, 0.0000,W, grid, , , ,
Point07,xy, 158, 3720,in, deg, 48, 0.0000,S, 78, 0.0000,W, grid, , , ,
Point08,xy, 1922, 3707,in, deg, 48, 0.0000,S, 76, 30.0000,W, grid, , , ,
Point09,xy, 3679, 3724,in, deg, 48, 0.0000,S, 75, 0.0000,W, grid, , , ,
Point10,xy, , ,in, deg, , ,, , ,, grid, , , ,
Point11,xy, , ,in, deg, , ,, , ,, grid, , , ,
Point12,xy, , ,in, deg, , ,, , ,, grid, , , ,
Point13,xy, , ,in, deg, , ,, , ,, grid, , , ,
Point14,xy, , ,in, deg, , ,, , ,, grid, , , ,
Point15,xy, , ,in, deg, , ,, , ,, grid, , , ,
Point16,xy, , ,in, deg, , ,, , ,, grid, , , ,
Point17,xy, , ,in, deg, , ,, , ,, grid, , , ,
Point18,xy, , ,in, deg, , ,, , ,, grid, , , ,
Point19,xy, , ,in, deg, , ,, , ,, grid, , , ,
Point20,xy, , ,in, deg, , ,, , ,, grid, , , ,
Point21,xy, , ,in, deg, , ,, , ,, grid, , , ,
Point22,xy, , ,in, deg, , ,, , ,, grid, , , ,
Point23,xy, , ,in, deg, , ,, , ,, grid, , , ,
Point24,xy, , ,in, deg, , ,, , ,, grid, , , ,
Point25,xy, , ,in, deg, , ,, , ,, grid, , , ,
Point26,xy, , ,in, deg, , ,, , ,, grid, , , ,
Point27,xy, , ,in, deg, , ,, , ,, grid, , , ,
Point28,xy, , ,in, deg, , ,, , ,, grid, , , ,
Point29,xy, , ,in, deg, , ,, , ,, grid, , , ,
Point30,xy, , ,in, deg, , ,, , ,, grid, , , ,
Projection Setup,,,,,,,,,,
Map Feature = MF ; Map Comment = MC These follow if they exist
Track File = TF These follow if they exist
Moving Map Parameters = MM? These follow if they exist
MM0,Yes
MMPNUM,4
MMPXY,1,0,0
MMPXY,2,3931,0
MMPXY,3,3842,4213
MMPXY,4,0,4211
MMPLL,1, -78.069471, -45.879769
MMPLL,2, -74.851746, -45.873819
MMPLL,3, -74.851730, -48.277987
MMPLL,4, -78.142934, -48.278253
MM1B,63.286692
MOP,Map Open Position,0,0
IWH,Map Image Width/Height,2500,1395
