OziExplorer Map Data File Version 2.2
L18-b
sl18-2.png
1 ,Map Code,
Pulkovo 1942 (1),, 0.0000, 0.0000,WGS 84
Reserved 1
Reserved 2
Magnetic Variation,,,E
Map Projection,Latitude/Longitude,PolyCal,Yes,AutoCalOnly,No,BSBUseWPX,No
Point01,xy, 108, 170,in, deg, 44, 0.0000,S, 75, 0.0000,W, grid, , , ,
Point02,xy, 2005, 157,in, deg, 44, 0.0000,S, 73, 30.0000,W, grid, , , ,
Point03,xy, 3889, 171,in, deg, 44, 0.0000,S, 72, 0.0000,W, grid, , , ,
Point04,xy, 144, 1927,in, deg, 45, 0.0000,S, 75, 0.0000,W, grid, , , ,
Point05,xy, 2007, 1910,in, deg, 45, 0.0000,S, 73, 30.0000,W, grid, , , ,
Point06,xy, 3861, 1925,in, deg, 45, 0.0000,S, 72, 0.0000,W, grid, , , ,
Point07,xy, 178, 3678,in, deg, 46, 0.0000,S, 75, 0.0000,W, grid, , , ,
Point08,xy, 2008, 3661,in, deg, 46, 0.0000,S, 73, 30.0000,W, grid, , , ,
Point09,xy, 3834, 3678,in, deg, 46, 0.0000,S, 72, 0.0000,W, grid, , , ,
Point10,xy, , ,in, deg, , ,, , ,, grid, , , ,
Point11,xy, , ,in, deg, , ,, , ,, grid, , , ,
Point12,xy, , ,in, deg, , ,, , ,, grid, , , ,
Point13,xy, , ,in, deg, , ,, , ,, grid, , , ,
Point14,xy, , ,in, deg, , ,, , ,, grid, , , ,
Point15,xy, , ,in, deg, , ,, , ,, grid, , , ,
Point16,xy, , ,in, deg, , ,, , ,, grid, , , ,
Point17,xy, , ,in, deg, , ,, , ,, grid, , , ,
Point18,xy, , ,in, deg, , ,, , ,, grid, , , ,
Point19,xy, , ,in, deg, , ,, , ,, grid, , , ,
Point20,xy, , ,in, deg, , ,, , ,, grid, , , ,
Point21,xy, , ,in, deg, , ,, , ,, grid, , , ,
Point22,xy, , ,in, deg, , ,, , ,, grid, , , ,
Point23,xy, , ,in, deg, , ,, , ,, grid, , , ,
Point24,xy, , ,in, deg, , ,, , ,, grid, , , ,
Point25,xy, , ,in, deg, , ,, , ,, grid, , , ,
Point26,xy, , ,in, deg, , ,, , ,, grid, , , ,
Point27,xy, , ,in, deg, , ,, , ,, grid, , , ,
Point28,xy, , ,in, deg, , ,, , ,, grid, , , ,
Point29,xy, , ,in, deg, , ,, , ,, grid, , , ,
Point30,xy, , ,in, deg, , ,, , ,, grid, , , ,
Projection Setup,,,,,,,,,,
Map Feature = MF ; Map Comment = MC These follow if they exist
Track File = TF These follow if they exist
Moving Map Parameters = MM? These follow if they exist
MM0,Yes
MMPNUM,4
MMPXY,1,0,2
MMPXY,2,4065,2
MMPXY,3,3991,4188
MMPXY,4,0,4189
MMPLL,1, -75.083251, -43.902738
MMPLL,2, -71.862418, -43.901921
MMPLL,3, -71.862026, -46.290361
MMPLL,4, -75.153618, -46.290115
MM1B,63.313218
MOP,Map Open Position,0,0
IWH,Map Image Width/Height,2500,1395
