OziExplorer Map Data File Version 2.2
O.Guamblin
sl18-1.png
1 ,Map Code,
Pulkovo 1942 (1),, 0.0000, 0.0000,WGS 84
Reserved 1
Reserved 2
Magnetic Variation,,,E
Map Projection,Latitude/Longitude,PolyCal,Yes,AutoCalOnly,No,BSBUseWPX,No
Point01,xy, 107, 183,in, deg, 44, 0.0000,S, 78, 0.0000,W, grid, , , ,
Point02,xy, 1999, 167,in, deg, 44, 0.0000,S, 76, 30.0000,W, grid, , , ,
Point03,xy, 3888, 189,in, deg, 44, 0.0000,S, 75, 0.0000,W, grid, , , ,
Point04,xy, 143, 1940,in, deg, 45, 0.0000,S, 78, 0.0000,W, grid, , , ,
Point05,xy, 2002, 1922,in, deg, 45, 0.0000,S, 76, 30.0000,W, grid, , , ,
Point06,xy, 3857, 1942,in, deg, 45, 0.0000,S, 75, 0.0000,W, grid, , , ,
Point07,xy, 178, 3697,in, deg, 46, 0.0000,S, 78, 0.0000,W, grid, , , ,
Point08,xy, 2005, 3677,in, deg, 46, 0.0000,S, 76, 30.0000,W, grid, , , ,
Point09,xy, 3829, 3694,in, deg, 46, 0.0000,S, 75, 0.0000,W, grid, , , ,
Point10,xy, , ,in, deg, , ,, , ,, grid, , , ,
Point11,xy, , ,in, deg, , ,, , ,, grid, , , ,
Point12,xy, , ,in, deg, , ,, , ,, grid, , , ,
Point13,xy, , ,in, deg, , ,, , ,, grid, , , ,
Point14,xy, , ,in, deg, , ,, , ,, grid, , , ,
Point15,xy, , ,in, deg, , ,, , ,, grid, , , ,
Point16,xy, , ,in, deg, , ,, , ,, grid, , , ,
Point17,xy, , ,in, deg, , ,, , ,, grid, , , ,
Point18,xy, , ,in, deg, , ,, , ,, grid, , , ,
Point19,xy, , ,in, deg, , ,, , ,, grid, , , ,
Point20,xy, , ,in, deg, , ,, , ,, grid, , , ,
Point21,xy, , ,in, deg, , ,, , ,, grid, , , ,
Point22,xy, , ,in, deg, , ,, , ,, grid, , , ,
Point23,xy, , ,in, deg, , ,, , ,, grid, , , ,
Point24,xy, , ,in, deg, , ,, , ,, grid, , , ,
Point25,xy, , ,in, deg, , ,, , ,, grid, , , ,
Point26,xy, , ,in, deg, , ,, , ,, grid, , , ,
Point27,xy, , ,in, deg, , ,, , ,, grid, , , ,
Point28,xy, , ,in, deg, , ,, , ,, grid, , , ,
Point29,xy, , ,in, deg, , ,, , ,, grid, , , ,
Point30,xy, , ,in, deg, , ,, , ,, grid, , , ,
Projection Setup,,,,,,,,,,
Map Feature = MF ; Map Comment = MC These follow if they exist
Track File = TF These follow if they exist
Moving Map Parameters = MM? These follow if they exist
MM0,Yes
MMPNUM,4
MMPXY,1,0,0
MMPXY,2,4072,2
MMPXY,3,3995,4145
MMPXY,4,1,4149
MMPLL,1, -78.081934, -43.894850
MMPLL,2, -74.856289, -43.890967
MMPLL,3, -74.856296, -46.255230
MMPLL,4, -78.153691, -46.254858
MM1B,63.510970
MOP,Map Open Position,0,0
IWH,Map Image Width/Height,2500,1395
