OziExplorer Map Data File Version 2.2
Rawson
sk20-3.png
1 ,Map Code,
Pulkovo 1942 (1),, 0.0000, 0.0000,WGS 84
Reserved 1
Reserved 2
Magnetic Variation,,,E
Map Projection,Latitude/Longitude,PolyCal,Yes,AutoCalOnly,No,BSBUseWPX,No
Point01,xy, 114, 169,in, deg, 42, 0.0000,S, 66, 0.0000,W, grid, , , ,
Point02,xy, 2073, 148,in, deg, 42, 0.0000,S, 64, 30.0000,W, grid, , , ,
Point03,xy, 4025, 162,in, deg, 42, 0.0000,S, 63, 0.0000,W, grid, , , ,
Point04,xy, 153, 1921,in, deg, 43, 0.0000,S, 66, 0.0000,W, grid, , , ,
Point05,xy, 2080, 1899,in, deg, 43, 0.0000,S, 64, 30.0000,W, grid, , , ,
Point06,xy, 4003, 1911,in, deg, 43, 0.0000,S, 63, 0.0000,W, grid, , , ,
Point07,xy, 191, 3675,in, deg, 44, 0.0000,S, 66, 0.0000,W, grid, , , ,
Point08,xy, 2087, 3653,in, deg, 44, 0.0000,S, 64, 30.0000,W, grid, , , ,
Point09,xy, 3976, 3662,in, deg, 44, 0.0000,S, 63, 0.0000,W, grid, , , ,
Point10,xy, , ,in, deg, , ,, , ,, grid, , , ,
Point11,xy, , ,in, deg, , ,, , ,, grid, , , ,
Point12,xy, , ,in, deg, , ,, , ,, grid, , , ,
Point13,xy, , ,in, deg, , ,, , ,, grid, , , ,
Point14,xy, , ,in, deg, , ,, , ,, grid, , , ,
Point15,xy, , ,in, deg, , ,, , ,, grid, , , ,
Point16,xy, , ,in, deg, , ,, , ,, grid, , , ,
Point17,xy, , ,in, deg, , ,, , ,, grid, , , ,
Point18,xy, , ,in, deg, , ,, , ,, grid, , , ,
Point19,xy, , ,in, deg, , ,, , ,, grid, , , ,
Point20,xy, , ,in, deg, , ,, , ,, grid, , , ,
Point21,xy, , ,in, deg, , ,, , ,, grid, , , ,
Point22,xy, , ,in, deg, , ,, , ,, grid, , , ,
Point23,xy, , ,in, deg, , ,, , ,, grid, , , ,
Point24,xy, , ,in, deg, , ,, , ,, grid, , , ,
Point25,xy, , ,in, deg, , ,, , ,, grid, , , ,
Point26,xy, , ,in, deg, , ,, , ,, grid, , , ,
Point27,xy, , ,in, deg, , ,, , ,, grid, , , ,
Point28,xy, , ,in, deg, , ,, , ,, grid, , , ,
Point29,xy, , ,in, deg, , ,, , ,, grid, , , ,
Point30,xy, , ,in, deg, , ,, , ,, grid, , , ,
Projection Setup,,,,,,,,,,
Map Feature = MF ; Map Comment = MC These follow if they exist
Track File = TF These follow if they exist
Moving Map Parameters = MM? These follow if they exist
MM0,Yes
MMPNUM,4
MMPXY,1,0,2
MMPXY,2,4181,0
MMPXY,3,4117,4153
MMPXY,4,0,4169
MMPLL,1, -66.083906, -41.903576
MMPLL,2, -62.882158, -41.906070
MMPLL,3, -62.881809, -44.278625
MMPLL,4, -66.159432, -44.278558
MM1B,63.307703
MOP,Map Open Position,0,0
IWH,Map Image Width/Height,2500,1395
