OziExplorer Map Data File Version 2.2
Viedma2
sk20-2.png
1 ,Map Code,
Pulkovo 1942 (1),, 0.0000, 0.0000,WGS 84
Reserved 1
Reserved 2
Magnetic Variation,,,E
Map Projection,Latitude/Longitude,PolyCal,Yes,AutoCalOnly,No,BSBUseWPX,No
Point01,xy, 109, 152,in, deg, 40, 0.0000,S, 63, 0.0000,W, grid, , , ,
Point02,xy, 2129, 157,in, deg, 40, 0.0000,S, 61, 30.0000,W, grid, , , ,
Point03,xy, 4143, 187,in, deg, 40, 0.0000,S, 60, 0.0000,W, grid, , , ,
Point04,xy, 127, 1903,in, deg, 41, 0.0000,S, 63, 0.0000,W, grid, , , ,
Point05,xy, 2117, 1906,in, deg, 41, 0.0000,S, 61, 30.0000,W, grid, , , ,
Point06,xy, 4101, 1939,in, deg, 41, 0.0000,S, 60, 0.0000,W, grid, , , ,
Point07,xy, 145, 3652,in, deg, 42, 0.0000,S, 63, 0.0000,W, grid, , , ,
Point08,xy, 2104, 3656,in, deg, 42, 0.0000,S, 61, 30.0000,W, grid, , , ,
Point09,xy, 4056, 3687,in, deg, 42, 0.0000,S, 60, 0.0000,W, grid, , , ,
Point10,xy, , ,in, deg, , ,, , ,, grid, , , ,
Point11,xy, , ,in, deg, , ,, , ,, grid, , , ,
Point12,xy, , ,in, deg, , ,, , ,, grid, , , ,
Point13,xy, , ,in, deg, , ,, , ,, grid, , , ,
Point14,xy, , ,in, deg, , ,, , ,, grid, , , ,
Point15,xy, , ,in, deg, , ,, , ,, grid, , , ,
Point16,xy, , ,in, deg, , ,, , ,, grid, , , ,
Point17,xy, , ,in, deg, , ,, , ,, grid, , , ,
Point18,xy, , ,in, deg, , ,, , ,, grid, , , ,
Point19,xy, , ,in, deg, , ,, , ,, grid, , , ,
Point20,xy, , ,in, deg, , ,, , ,, grid, , , ,
Point21,xy, , ,in, deg, , ,, , ,, grid, , , ,
Point22,xy, , ,in, deg, , ,, , ,, grid, , , ,
Point23,xy, , ,in, deg, , ,, , ,, grid, , , ,
Point24,xy, , ,in, deg, , ,, , ,, grid, , , ,
Point25,xy, , ,in, deg, , ,, , ,, grid, , , ,
Point26,xy, , ,in, deg, , ,, , ,, grid, , , ,
Point27,xy, , ,in, deg, , ,, , ,, grid, , , ,
Point28,xy, , ,in, deg, , ,, , ,, grid, , , ,
Point29,xy, , ,in, deg, , ,, , ,, grid, , , ,
Point30,xy, , ,in, deg, , ,, , ,, grid, , , ,
Projection Setup,,,,,,,,,,
Map Feature = MF ; Map Comment = MC These follow if they exist
Track File = TF These follow if they exist
Moving Map Parameters = MM? These follow if they exist
MM0,Yes
MMPNUM,4
MMPXY,1,0,0
MMPXY,2,4344,4
MMPXY,3,4231,4254
MMPXY,4,0,4215
MMPLL,1, -63.079200, -39.912781
MMPLL,2, -59.853796, -39.892628
MMPLL,3, -59.853727, -42.321678
MMPLL,4, -63.115380, -42.321693
MM1B,63.267299
MOP,Map Open Position,0,0
IWH,Map Image Width/Height,2500,1395
