OziExplorer Map Data File Version 2.2
Viedma
sk20-1.png
1 ,Map Code,
Pulkovo 1942 (1),, 0.0000, 0.0000,WGS 84
Reserved 1
Reserved 2
Magnetic Variation,,,E
Map Projection,Latitude/Longitude,PolyCal,Yes,AutoCalOnly,No,BSBUseWPX,No
Point01,xy, 104, 212,in, deg, 40, 0.0000,S, 66, 0.0000,W, grid, , , ,
Point02,xy, 2122, 205,in, deg, 40, 0.0000,S, 64, 30.0000,W, grid, , , ,
Point03,xy, 4132, 224,in, deg, 40, 0.0000,S, 63, 0.0000,W, grid, , , ,
Point04,xy, 134, 1967,in, deg, 41, 0.0000,S, 66, 0.0000,W, grid, , , ,
Point05,xy, 2119, 1957,in, deg, 41, 0.0000,S, 64, 30.0000,W, grid, , , ,
Point06,xy, 4103, 1974,in, deg, 41, 0.0000,S, 63, 0.0000,W, grid, , , ,
Point07,xy, 161, 3718,in, deg, 42, 0.0000,S, 66, 0.0000,W, grid, , , ,
Point08,xy, 2119, 3707,in, deg, 42, 0.0000,S, 64, 30.0000,W, grid, , , ,
Point09,xy, 4070, 3726,in, deg, 42, 0.0000,S, 63, 0.0000,W, grid, , , ,
Point10,xy, , ,in, deg, , ,, , ,, grid, , , ,
Point11,xy, , ,in, deg, , ,, , ,, grid, , , ,
Point12,xy, , ,in, deg, , ,, , ,, grid, , , ,
Point13,xy, , ,in, deg, , ,, , ,, grid, , , ,
Point14,xy, , ,in, deg, , ,, , ,, grid, , , ,
Point15,xy, , ,in, deg, , ,, , ,, grid, , , ,
Point16,xy, , ,in, deg, , ,, , ,, grid, , , ,
Point17,xy, , ,in, deg, , ,, , ,, grid, , , ,
Point18,xy, , ,in, deg, , ,, , ,, grid, , , ,
Point19,xy, , ,in, deg, , ,, , ,, grid, , , ,
Point20,xy, , ,in, deg, , ,, , ,, grid, , , ,
Point21,xy, , ,in, deg, , ,, , ,, grid, , , ,
Point22,xy, , ,in, deg, , ,, , ,, grid, , , ,
Point23,xy, , ,in, deg, , ,, , ,, grid, , , ,
Point24,xy, , ,in, deg, , ,, , ,, grid, , , ,
Point25,xy, , ,in, deg, , ,, , ,, grid, , , ,
Point26,xy, , ,in, deg, , ,, , ,, grid, , , ,
Point27,xy, , ,in, deg, , ,, , ,, grid, , , ,
Point28,xy, , ,in, deg, , ,, , ,, grid, , , ,
Point29,xy, , ,in, deg, , ,, , ,, grid, , , ,
Point30,xy, , ,in, deg, , ,, , ,, grid, , , ,
Projection Setup,,,,,,,,,,
Map Feature = MF ; Map Comment = MC These follow if they exist
Track File = TF These follow if they exist
Moving Map Parameters = MM? These follow if they exist
MM0,Yes
MMPNUM,4
MMPXY,1,0,0
MMPXY,2,4305,1
MMPXY,3,4224,4215
MMPXY,4,1,4208
MMPLL,1, -66.074677, -39.878050
MMPLL,2, -62.874288, -39.871202
MMPLL,3, -62.874233, -42.278537
MMPLL,4, -66.128866, -42.278496
MM1B,63.393556
MOP,Map Open Position,0,0
IWH,Map Image Width/Height,2500,1395
